Workbook
Name _GoBack: 'Reservas Detalladas'!$C$8

Sheet Programacion
C4: PROGRAMACION PLAN ANUAL DE CAJA 2020 | Z4: EJECUCION ACUMULADA PLAN ANUAL DE CAJA 2020 | AW4: SEGUIMIENTO MENSUAL PAC PROGRAMADO Y EJECUTADO
Z5: NOMBRE ENTIDAD: INSTITUTO DEPARTAMENTAL DE DEPORTE Y RECREACION DEL META - IDERMETA | AW5: NOMBRE ENTIDAD: INSTITUTO DEPARTAMENTAL DE DEPORTE Y RECREACION DEL META - IDERMETA
C7: INGRESOS | D7: Apro Inicial | E7: Adiciones | F7: Reduccion | G7: Creditos | H7: Contracred | I7: Apro Definitiva | J7: Enero | K7: Febrero | L7: Marzo | M7: Abril | N7: Mayo | O7: Junio | P7: Julio | Q7: Agosto | R7: Septiembre | S7: Octubre | T7: Noviembre | U7: Diciembre | V7: Total | W7: Saldo | Z7: INGRESOS | AA7: Apro Inicial | AB7: Adiciones | AC7: Reduccion | AF7: Apro Definitiva | AG7: Enero | AH7: Febrero | AI7: Marzo | AJ7: Abril | AK7: Mayo | AL7: Junio | AM7: Julio | AN7: Agosto | AO7: Septiembre | AP7: Octubre | AQ7: Noviembre | AR7: Diciembre | AS7: Total | AW7: INGRESOS | AX7: Apro Inicial | AY7: Adiciones | AZ7: Reduccion | BC7: Apro Definitiva | BD7: Prog Enero | BE7: Ejec Enero | BF7: Prog Febrero | BG7: Ejec Febrero | BH7: Prog Marzo | BI7: Ejec Marzo | BJ7: Prog Abril | BK7: Ejec Abril | BL7: Prog Mayo | BM7: Ejec Mayo | BN7: Prog Junio | BO7: Ejec Junio | BP7: Prog Julio | BQ7: Ejec Julio | BR7: Prog Agosto | BS7: Ejec Agosto | BT7: Prog Septiembre | BU7: Ejec Septiembre | BV7: Prog Octubre | BW7: Ejec Octubre | BX7: Prog Noviembre | BY7: Ejec Noviembre | BZ7: Prog Diciembre | CA7: Ejec Diciembre | CB7: Total Prog | CC7: Total Ejec
B8: 1 | C8: Saldo Inicial | D8: =SUM(D9:D11) -> 0 | E8: =SUM(E9:E11) -> 0 | F8: =SUM(F9:F11) -> 0 | I8: =+D8+E8-F8 -> 0 | J8: =SUM(J9:J11) -> 0 | K8: =SUM(K9:K11) -> 0 | L8: =SUM(L9:L11) -> 0 | M8: =SUM(M9:M11) -> 0 | N8: =SUM(N9:N11) -> 0 | O8: =SUM(O9:O11) -> 0 | P8: =SUM(P9:P11) -> 0 | Q8: =SUM(Q9:Q11) -> 0 | ... U8: =SUM(U9:U11) -> 0 | V8: =SUM(J8:U8) -> 0 | Y8: 1 | Z8: Saldo Inicial | AA8: =SUM(AA9:AA11) -> 0 | AB8: =+E8 -> 0 | AC8: =+F8 -> 0 | AD8: =+G8 -> 0 | AE8: =+H8 -> 0 | AF8: =+I8 -> 0 | AG8: =SUM(AG9:AG11) -> 0 | AH8: 8670472 | AI8: 52326540 | AJ8: =+AI155 -> 1.2297424e+08 | AK8: =+AJ155 -> 1.8291073e+08 | AL8: =+AK155 -> 64191547 | AM8: =+AL155 -> 2.2838284e+08 | AN8: =+AM155 -> 9.0771584e+08 | AO8: =+AN155 -> 8.3794685e+08 | AP8: =SUM(AP9:AP11) -> 0 | AQ8: =SUM(AQ9:AQ11) -> 0 | AR8: =SUM(AR9:AR11) -> 0 | AS8: =SUM(AG8:AR8) -> 2.4051191e+09 | AV8: 1 | AW8: Saldo Inicial | AX8: =SUM(AX9:AX11) -> 0 | AY8: =+E8 -> 0 | AZ8: =+F8 -> 0 | BA8: =+G8 -> 0 | BB8: =+H8 -> 0 | BC8: =+I8 -> 0 | BD8: =SUM(BD9:BD11) -> 0 | BE8: =AG8 -> 0 | BF8: =+K8 -> 0 | BG8: =+AH8 -> 8670472 | BH8: =L8 -> 0 | BI8: =AI8 -> 52326540 | BJ8: =M8 -> 0 | BK8: =AJ8 -> 1.2297424e+08 | BL8: =N8 -> 0 | BM8: =AK8 -> 1.8291073e+08 | BN8: =O8 -> 0 | BO8: =AL8 -> 64191547 | BP8: =P8 -> 0 | BQ8: =AM8 -> 2.2838284e+08 | BR8: =Q8 -> 0 | BS8: =AN8 -> 9.0771584e+08 | BT8: =R8 -> 0 | BU8: =AO8 -> 8.3794685e+08 | BV8: =S8 -> 0 | BW8: =AP8 -> 0 | BX8: =T8 -> 0 | BY8: =AQ8 -> 0 | BZ8: =U8 -> 0 | CA8: =AR8 -> 0 | CB8: =+BD8+BF8+BH8+BJ8+BL8+BN8+BP8+BR8+BT8+BV8+BX8+BZ8 -> 0 | CC8: =+BE8+BG8+BI8+BK8+BM8+BO8+BQ8+BS8+BU8+BW8+BY8+CA8 -> 2.4051191e+09
C9: Caja | D9: 0 | E9: 0 | F9: 0 | I9: =+D9+E9-F9 -> 0 | J9: 0 | K9: 0 | L9: 0 | M9: 0 | N9: 0 | O9: 0 | P9: 0 | Q9: 0 | R9: 0 | S9: 0 | T9: 0 | U9: 0 | V9: =SUM(J9:U9) -> 0 | Z9: Caja | AA9: 0 | AB9: =+E9 -> 0 | AC9: =+F9 -> 0 | AD9: =+G9 -> 0 | AE9: =+H9 -> 0 | AF9: =+I9 -> 0 | AG9: 0 | AH9: 0 | AI9: 0 | AJ9: 0 | AK9: 0 | AL9: 0 | AM9: 0 | AN9: 0 | AO9: 0 | AP9: 0 | AQ9: 0 | AR9: 0 | AS9: =SUM(AG9:AR9) -> 0 | AW9: Caja | AX9: 0 | AY9: =+E9 -> 0 | AZ9: =+F9 -> 0 | BA9: =+G9 -> 0 | BB9: =+H9 -> 0 | BC9: =+I9 -> 0 | BD9: =+J9 -> 0 | BE9: =AG9 -> 0 | BF9: =+K9 -> 0 | BG9: =+AH9 -> 0 | BH9: =L9 -> 0 | BI9: =AI9 -> 0 | BJ9: =M9 -> 0 | BK9: =AJ9 -> 0 | BL9: =N9 -> 0 | BM9: =AK9 -> 0 | BN9: =O9 -> 0 | BO9: =AL9 -> 0 | BP9: =P9 -> 0 | BQ9: =AM9 -> 0 | BR9: =Q9 -> 0 | BS9: =AN9 -> 0 | BT9: =R9 -> 0 | BU9: =AO9 -> 0 | BV9: =S9 -> 0 | BW9: =AP9 -> 0 | BX9: =T9 -> 0 | BY9: =AQ9 -> 0 | BZ9: =U9 -> 0 | CA9: =AR9 -> 0 | CB9: =+BD9+BF9+BH9+BJ9+BL9+BN9+BP9+BR9+BT9+BV9+BX9+BZ9 -> 0 | CC9: =+BE9+BG9+BI9+BK9+BM9+BO9+BQ9+BS9+BU9+BW9+BY9+CA9 -> 0
C10: Bancos | D10: 0 | E10: 0 | F10: 0 | I10: =+D10+E10-F10 -> 0 | J10: 0 | K10: 0 | L10: 0 | M10: 0 | N10: 0 | O10: 0 | P10: 0 | Q10: 0 | R10: 0 | S10: 0 | T10: 0 | U10: 0 | V10: =SUM(J10:U10) -> 0 | Z10: Bancos | AA10: 0 | AB10: =+E10 -> 0 | AC10: =+F10 -> 0 | AD10: =+G10 -> 0 | AE10: =+H10 -> 0 | AF10: =+I10 -> 0 | AG10: 0 | AH10: 8670462 | AI10: 0 | AJ10: 0 | AK10: 0 | AL10: 0 | AM10: 0 | AN10: 0 | AO10: 0 | AP10: 0 | AQ10: 0 | AR10: 0 | AS10: =SUM(AG10:AR10) -> 8670462 | AW10: Bancos | AX10: 0 | AY10: =+E10 -> 0 | AZ10: =+F10 -> 0 | BA10: =+G10 -> 0 | BB10: =+H10 -> 0 | BC10: =+I10 -> 0 | BD10: 0 | BE10: 9426298.6 | BF10: =+K10 -> 0 | BG10: =+AH10 -> 8670462 | BH10: =L10 -> 0 | BI10: =AI10 -> 0 | BJ10: =M10 -> 0 | BK10: =AJ10 -> 0 | BL10: =N10 -> 0 | BM10: =AK10 -> 0 | BN10: =O10 -> 0 | BO10: =AL10 -> 0 | BP10: =P10 -> 0 | BQ10: =AM10 -> 0 | BR10: =Q10 -> 0 | BS10: =AN10 -> 0 | BT10: =R10 -> 0 | BU10: =AO10 -> 0 | BV10: =S10 -> 0 | BW10: =AP10 -> 0 | BX10: =T10 -> 0 | BY10: =AQ10 -> 0 | BZ10: =U10 -> 0 | CA10: =AR10 -> 0 | CB10: =+BD10+BF10+BH10+BJ10+BL10+BN10+BP10+BR10+BT10+BV10+BX10+BZ10 -> 0 | CC10: =+BE10+BG10+BI10+BK10+BM10+BO10+BQ10+BS10+BU10+BW10+BY10+CA10 -> 18096761
C11: -- | D11: 0 | E11: 0 | F11: 0 | I11: =+D11+E11-F11 -> 0 | J11: 0 | K11: 0 | L11: 0 | M11: 0 | N11: 0 | O11: 0 | P11: 0 | Q11: 0 | R11: 0 | S11: 0 | T11: 0 | U11: 0 | V11: =SUM(J11:U11) -> 0 | Z11: -- | AA11: 0 | AB11: =+E11 -> 0 | AC11: =+F11 -> 0 | AD11: =+G11 -> 0 | AE11: =+H11 -> 0 | AF11: =+I11 -> 0 | AG11: 0 | AH11: 0 | AI11: 0 | AJ11: 0 | AK11: 0 | AL11: 0 | AM11: 0 | AN11: 0 | AO11: 0 | AP11: 0 | AQ11: 0 | AR11: 0 | AS11: =SUM(AG11:AR11) -> 0 | AW11: -- | AX11: 0 | AY11: =+E11 -> 0 | AZ11: =+F11 -> 0 | BA11: =+G11 -> 0 | BB11: =+H11 -> 0 | BC11: =+I11 -> 0 | BD11: =+J11 -> 0 | BE11: =+AG11 -> 0 | BF11: =+K11 -> 0 | BG11: =+AH11 -> 0 | BH11: =L11 -> 0 | BI11: =AI11 -> 0 | BJ11: =M11 -> 0 | BK11: =AJ11 -> 0 | BL11: =N11 -> 0 | BM11: =AK11 -> 0 | BN11: =O11 -> 0 | BO11: =AL11 -> 0 | BP11: =P11 -> 0 | BQ11: =AM11 -> 0 | BR11: =Q11 -> 0 | BS11: =AN11 -> 0 | BT11: =R11 -> 0 | BU11: =AO11 -> 0 | BV11: =S11 -> 0 | BW11: =AP11 -> 0 | BX11: =T11 -> 0 | BY11: =AQ11 -> 0 | BZ11: =U11 -> 0 | CA11: =AR11 -> 0 | CB11: =+BD11+BF11+BH11+BJ11+BL11+BN11+BP11+BR11+BT11+BV11+BX11+BZ11 -> 0 | CC11: =+BE11+BG11+BI11+BK11+BM11+BO11+BQ11+BS11+BU11+BW11+BY11+CA11 -> 0
A12: OK decreto 853 | B12: 2 | C12: Ingresos Corrientes | D12: =+D13+D18+D24 -> 4904620563 | E12: =+E13+E18+E24 -> 1704785980 | F12: =+F13+F18+F24 -> 182907580 | I12: =+D12+E12-F12 -> 6426498963 | J12: =+J13+J18+J24 -> 9426298.6 | K12: =+K13+K18+K24 -> 2.4097187e+08 | L12: =+L13+L18+L24 -> 356593626 | M12: =+M13+M18+M24 -> 283148017 | N12: =+N13+N18+N24 -> 222042047 | O12: =+O13+O18+O24 -> 323637071 | P12: =+P13+P18+P24 -> 4.590868e+08 | Q12: =+Q13+Q18+Q24 -> 4.3141676e+08 | ... U12: =+U13+U18+U24 -> 1103999976 | V12: =SUM(J12:U12) -> 6.426499e+09 | W12: =+I12-V12 -> -0.47999954 | Y12: 2 | Z12: Ingresos Corrientes | AA12: =+AA13+AA18+AA24 -> 6426498963 | AB12: =+E12 -> 1704785980 | AC12: =+F12 -> 182907580 | AD12: =+G12 -> 0 | AE12: =+H12 -> 0 | AF12: =+I12 -> 6426498963 | AG12: =+AG13+AG18+AG24 -> 9426298.6 | AH12: =+AH13+AH18+AH24 -> 2.4070375e+08 | AI12: =+AI13+AI18+AI24 -> 2.6914134e+08 | AJ12: =+AJ13+AJ18+AJ24 -> 2.8496716e+08 | AK12: =+AK13+AK18 -> 55058662 | AL12: =+AL13+AL18 -> 2.8288638e+08 | AM12: =+AM13+AM18 -> 3.910613e+08 | AN12: =+AN13+AN18 -> 15607472 | AO12: =+AO13+AO18 -> 2.2593426e+08 | AP12: =+AP13+AP18 -> 0 | AQ12: =+AQ13+AQ18 -> 0 | AR12: =+AR13+AR18 -> 0 | AS12: =SUM(AG12:AR12) -> 1.7747866e+09 | AV12: 2 | AW12: Ingresos Corrientes | AX12: =+AX13+AX18+AX24 -> 6426498963 | AY12: =+E12 -> 1704785980 | AZ12: =+F12 -> 182907580 | BA12: =+G12 -> 0 | BB12: =+H12 -> 0 | BC12: =+I12 -> 6426498963 | BD12: =+BD13+BD18 -> 9426298.6 | BE12: =+BE13+BE18 -> 9426298.6 | BF12: =+K12 -> 2.4097187e+08 | BG12: =+AH12 -> 2.4070375e+08 | BH12: =L12 -> 356593626 | BI12: =AI12 -> 2.6914134e+08 | BJ12: =M12 -> 283148017 | BK12: =AJ12 -> 2.8496716e+08 | BL12: =N12 -> 222042047 | BM12: =AK12 -> 55058662 | BN12: =O12 -> 323637071 | BO12: =AL12 -> 2.8288638e+08 | BP12: =P12 -> 4.590868e+08 | BQ12: =AM12 -> 3.910613e+08 | BR12: =Q12 -> 4.3141676e+08 | BS12: =AN12 -> 15607472 | BT12: =R12 -> 1.0718417e+09 | BU12: =AO12 -> 2.2593426e+08 | BV12: =S12 -> 713478504 | BW12: =AP12 -> 0 | BX12: =T12 -> 1210856264 | BY12: =AQ12 -> 0 | BZ12: =U12 -> 1103999976 | CA12: =AR12 -> 0 | CB12: =+BD12+BF12+BH12+BJ12+BL12+BN12+BP12+BR12+BT12+BV12+BX12+BZ12 -> 6.426499e+09 | CC12: =+BE12+BG12+BI12+BK12+BM12+BO12+BQ12+BS12+BU12+BW12+BY12+CA12 -> 1.7747866e+09
C13: Tributarios | D13: =+D14+D15+D16+D17 -> 2558620563 | E13: =+E14+E15+E16+E17 -> 0 | F13: =+F14+F15+F16+F17 -> 0 | I13: =+I14+I15+I16+I17 -> 2558620563 | J13: =+J14+J15+J16+J17 -> 0 | K13: =+K14+K15+K16+K17 -> 2.3154557e+08 | L13: =+L14+L15+L16+L17 -> 198893626 | M13: =+M14+M15+M16+M17 -> 201048017 | N13: =+N14+N15+N16+N17 -> 214042047 | O13: =+O14+O15+O16+O17 -> 193670405 | P13: =+P14+P15+P16+P17 -> 3.2912013e+08 | ... U13: =+U14+U15+U16+U17 -> 289394208 | V13: =SUM(J13:U13) -> 2.5586206e+09 | W13: =+I13-V13 -> -0.22000027 | Z13: Tributarios | AA13: =+AA14+AA15+AA16+AA17 -> 2558620563 | AB13: =+E13 -> 0 | AC13: =+F13 -> 0 | AD13: =+G13 -> 0 | AE13: =+H13 -> 0 | AF13: =+I13 -> 2558620563 | AG13: =+AG14+AG15+AG16+AG17 -> 0 | AH13: =+AH14+AH15+AH16+AH17 -> 2.3154557e+08 | AI13: =+AI14+AI15+AI16+AI17 -> 1.1177983e+08 | AJ13: =+AJ14+AJ15+AJ16+AJ17 -> 1.9191729e+08 | AK13: =+AK14+AK15+AK16+AK17 -> 35035240 | AL13: =+AL14+AL15+AL16+AL17 -> 2.6982413e+08 | AM13: =+AM14+AM15+AM16+AM17 -> 3.9019143e+08 | AN13: =+AN14+AN15+AN16+AN17 -> 11358060 | AO13: =+AO14+AO15+AO16+AO17 -> 2.1140193e+08 | AP13: 0 | AQ13: 0 | AR13: 0 | AS13: =SUM(AG13:AR13) -> 1.4530535e+09 | AW13: Tributarios | AX13: =+AX14+AX15+AX16+AX17 -> 2558620563 | AY13: =+E13 -> 0 | AZ13: =+F13 -> 0 | BA13: =+G13 -> 0 | BB13: =+H13 -> 0 | BC13: =+I13 -> 2558620563 | BD13: =+J13 -> 0 | BE13: =AG13 -> 0 | BF13: =+K13 -> 2.3154557e+08 | BG13: =+AH13 -> 2.3154557e+08 | BH13: =L13 -> 198893626 | BI13: =AI13 -> 1.1177983e+08 | BJ13: =M13 -> 201048017 | BK13: =AJ13 -> 1.9191729e+08 | BL13: =N13 -> 214042047 | BM13: =AK13 -> 35035240 | BN13: =O13 -> 193670405 | BO13: =AL13 -> 2.6982413e+08 | BP13: =P13 -> 3.2912013e+08 | BQ13: =AM13 -> 3.9019143e+08 | BR13: =Q13 -> 2.132001e+08 | BS13: =AN13 -> 11358060 | BT13: =R13 -> 4.3303633e+08 | BU13: =AO13 -> 2.1140193e+08 | BV13: =S13 -> 60000000 | BW13: =AP13 -> 0 | BX13: =T13 -> 194670132 | BY13: =AQ13 -> 0 | BZ13: =U13 -> 289394208 | CA13: =AR13 -> 0 | CB13: =+BD13+BF13+BH13+BJ13+BL13+BN13+BP13+BR13+BT13+BV13+BX13+BZ13 -> 2.5586206e+09 | CC13: =+BE13+BG13+BI13+BK13+BM13+BO13+BQ13+BS13+BU13+BW13+BY13+CA13 -> 1.4530535e+09
C14: cigarrillos nacionales | D14: 0 | E14: 0 | F14: 0 | I14: =+D14+E14-F14 -> 0 | J14: =ROUND(I14/12,0) -> 0 | K14: =ROUND(I14/12,0) -> 0 | L14: =K14 -> 0 | M14: =L14 -> 0 | N14: =M14 -> 0 | O14: =N14 -> 0 | P14: =O14 -> 0 | Q14: =P14 -> 0 | R14: =Q14 -> 0 | S14: =R14 -> 0 | T14: =S14 -> 0 | U14: 0 | V14: =SUM(J14:U14) -> 0 | W14: =+I14-V14 -> 0 | Z14: cigarrillos nacionales | AA14: =D14 -> 0 | AB14: =+E14 -> 0 | AC14: =+F14 -> 0 | AD14: =+G14 -> 0 | AE14: =+H14 -> 0 | AF14: =+I14 -> 0 | AG14: 0 | AH14: 0 | AI14: 0 | AJ14: 0 | AK14: 0 | AL14: 0 | AM14: 0 | AN14: 0 | AO14: 0 | AP14: 0 | AQ14: 0 | AR14: 0 | AS14: =SUM(AG14:AR14) -> 0 | AW14: cigarrillos nacionales | AX14: =AF14 -> 0 | AY14: =+E14 -> 0 | AZ14: =+F14 -> 0 | BA14: =+G14 -> 0 | BB14: =+H14 -> 0 | BC14: =+I14 -> 0 | BD14: =+J14 -> 0 | BE14: =AG14 -> 0 | BF14: =+K14 -> 0 | BG14: =+AH14 -> 0 | BH14: =L14 -> 0 | BI14: =AI14 -> 0 | BJ14: =M14 -> 0 | BK14: =AJ14 -> 0 | BL14: =N14 -> 0 | BM14: =AK14 -> 0 | BN14: =O14 -> 0 | BO14: =AL14 -> 0 | BP14: =P14 -> 0 | BQ14: =AM14 -> 0 | BR14: =Q14 -> 0 | BS14: =AN14 -> 0 | BT14: =R14 -> 0 | BU14: =AO14 -> 0 | BV14: =S14 -> 0 | BW14: =AP14 -> 0 | BX14: =T14 -> 0 | BY14: =AQ14 -> 0 | BZ14: =U14 -> 0 | CA14: =AR14 -> 0 | CB14: =+BD14+BF14+BH14+BJ14+BL14+BN14+BP14+BR14+BT14+BV14+BX14+BZ14 -> 0 | CC14: =+BE14+BG14+BI14+BK14+BM14+BO14+BQ14+BS14+BU14+BW14+BY14+CA14 -> 0
C15: cigarrillos extranjeros (improex) | D15: 1878133989 | E15: 0 | F15: 0 | I15: =+D15+E15-F15 -> 1878133989 | J15: 0 | K15: 2.3154557e+08 | L15: 106393626 | M15: 163548017 | N15: 172042047 | O15: 134670405 | P15: 2.5912013e+08 | Q15: 1.582001e+08 | R15: 3.7803633e+08 | S15: 0 | T15: 134670132 | U15: 139907634 | V15: =SUM(J15:U15) -> 1.878134e+09 | W15: =+I15-V15 -> -0.21999979 | Z15: cigarrillos extranjeros (improex) | AA15: =I15 -> 1878133989 | AB15: =+E15 -> 0 | AC15: =+F15 -> 0 | AD15: =+G15 -> 0 | AE15: =+H15 -> 0 | AF15: =+I15 -> 1878133989 | AG15: 0 | AH15: 2.3154557e+08 | AI15: 44676096 | AJ15: 1.1541916e+08 | AK15: 0 | AL15: 2.6982413e+08 | AM15: 2.1311735e+08 | AN15: 0 | AO15: 1.6818411e+08 | AP15: 0 | AQ15: 0 | AR15: 0 | AS15: =SUM(AG15:AR15) -> 1.0427664e+09 | AW15: cigarrillos extranjeros (improex) | AX15: =AF15 -> 1878133989 | AY15: =+E15 -> 0 | AZ15: =+F15 -> 0 | BA15: =+G15 -> 0 | BB15: =+H15 -> 0 | BC15: =+I15 -> 1878133989 | BD15: =+J15 -> 0 | BE15: =AG15 -> 0 | BF15: =+K15 -> 2.3154557e+08 | BG15: =+AH15 -> 2.3154557e+08 | BH15: =L15 -> 106393626 | BI15: =AI15 -> 44676096 | BJ15: =M15 -> 163548017 | BK15: =AJ15 -> 1.1541916e+08 | BL15: =N15 -> 172042047 | BM15: =AK15 -> 0 | BN15: =O15 -> 134670405 | BO15: =AL15 -> 2.6982413e+08 | BP15: =P15 -> 2.5912013e+08 | BQ15: =AM15 -> 2.1311735e+08 | BR15: =Q15 -> 1.582001e+08 | BS15: =AN15 -> 0 | BT15: =R15 -> 3.7803633e+08 | BU15: =AO15 -> 1.6818411e+08 | BV15: =S15 -> 0 | BW15: =AP15 -> 0 | BX15: =T15 -> 134670132 | BY15: =AQ15 -> 0 | BZ15: =U15 -> 139907634 | CA15: =AR15 -> 0 | CB15: =+BD15+BF15+BH15+BJ15+BL15+BN15+BP15+BR15+BT15+BV15+BX15+BZ15 -> 1.878134e+09 | CC15: =+BE15+BG15+BI15+BK15+BM15+BO15+BQ15+BS15+BU15+BW15+BY15+CA15 -> 1.0427664e+09
C16: IVA telefonia celular | D16: 0 | E16: 0 | F16: 0 | I16: =+D16+E16-F16 -> 0 | J16: =ROUND(I16/12,0) -> 0 | K16: =ROUND(I16/12,0) -> 0 | L16: =+K16 -> 0 | M16: =+L16 -> 0 | N16: =+M16 -> 0 | O16: =+N16 -> 0 | P16: =+O16 -> 0 | Q16: =+P16 -> 0 | R16: =+Q16 -> 0 | S16: =+R16 -> 0 | T16: =+S16 -> 0 | U16: 0 | V16: =SUM(J16:U16) -> 0 | W16: =+I16-V16 -> 0 | Z16: IVA telefonia celular | AA16: =I16 -> 0 | AB16: =+E16 -> 0 | AC16: =+F16 -> 0 | AD16: =+G16 -> 0 | AE16: =+H16 -> 0 | AF16: =+I16 -> 0 | AG16: 0 | AH16: 0 | AI16: 0 | AJ16: 0 | AK16: 0 | AL16: 0 | AM16: 0 | AN16: 0 | AO16: 0 | AP16: 0 | AQ16: 0 | AR16: 0 | AS16: =SUM(AG16:AR16) -> 0 | AW16: IVA telefonia celular | AX16: =AF16 -> 0 | AY16: =+E16 -> 0 | AZ16: =+F16 -> 0 | BA16: =+G16 -> 0 | BB16: =+H16 -> 0 | BC16: =+I16 -> 0 | BD16: =+J16 -> 0 | BE16: =AG16 -> 0 | BF16: =+K16 -> 0 | BG16: =+AH16 -> 0 | BH16: =L16 -> 0 | BI16: =AI16 -> 0 | BJ16: =M16 -> 0 | BK16: =AJ16 -> 0 | BL16: =N16 -> 0 | BM16: =AK16 -> 0 | BN16: =O16 -> 0 | BO16: =AL16 -> 0 | BP16: =P16 -> 0 | BQ16: =AM16 -> 0 | BR16: =Q16 -> 0 | BS16: =AN16 -> 0 | BT16: =R16 -> 0 | BU16: =AO16 -> 0 | BV16: =S16 -> 0 | BW16: =AP16 -> 0 | BX16: =T16 -> 0 | BY16: =AQ16 -> 0 | BZ16: =U16 -> 0 | CA16: =AR16 -> 0 | CB16: =+BD16+BF16+BH16+BJ16+BL16+BN16+BP16+BR16+BT16+BV16+BX16+BZ16 -> 0 | CC16: =+BE16+BG16+BI16+BK16+BM16+BO16+BQ16+BS16+BU16+BW16+BY16+CA16 -> 0
C17: IVA licores | D17: 680486574 | E17: 0 | F17: 0 | I17: =+D17+E17-F17 -> 680486574 | J17: 0 | K17: 0 | L17: 92500000 | M17: 37500000 | N17: 42000000 | O17: 59000000 | P17: 70000000 | Q17: 55000000 | R17: =+Q17 -> 55000000 | S17: 60000000 | T17: =+S17 -> 60000000 | U17: 149486574 | V17: =SUM(J17:U17) -> 680486574 | W17: =+I17-V17 -> 0 | Z17: IVA licores | AA17: =I17 -> 680486574 | AB17: =+E17 -> 0 | AC17: =+F17 -> 0 | AD17: =+G17 -> 0 | AE17: =+H17 -> 0 | AF17: =+I17 -> 680486574 | AG17: 0 | AH17: 0 | AI17: 67103730 | AJ17: 76498133 | AK17: 35035240 | AL17: 0 | AM17: 177074080 | AN17: 11358060 | AO17: 43217820 | AP17: 0 | AQ17: 0 | AR17: 0 | AS17: =SUM(AG17:AR17) -> 410287063 | AW17: IVA licores | AX17: =AF17 -> 680486574 | AY17: =+E17 -> 0 | AZ17: =+F17 -> 0 | BA17: =+G17 -> 0 | BB17: =+H17 -> 0 | BC17: =+I17 -> 680486574 | BD17: =+J17 -> 0 | BE17: =AG17 -> 0 | BF17: =+K17 -> 0 | BG17: =+AH17 -> 0 | BH17: =L17 -> 92500000 | BI17: =AI17 -> 67103730 | BJ17: =M17 -> 37500000 | BK17: =AJ17 -> 76498133 | BL17: =N17 -> 42000000 | BM17: =AK17 -> 35035240 | BN17: =O17 -> 59000000 | BO17: =AL17 -> 0 | BP17: =P17 -> 70000000 | BQ17: =AM17 -> 177074080 | BR17: =Q17 -> 55000000 | BS17: =AN17 -> 11358060 | BT17: =R17 -> 55000000 | BU17: =AO17 -> 43217820 | BV17: =S17 -> 60000000 | BW17: =AP17 -> 0 | BX17: =T17 -> 60000000 | BY17: =AQ17 -> 0 | BZ17: =U17 -> 149486574 | CA17: =AR17 -> 0 | CB17: =+BD17+BF17+BH17+BJ17+BL17+BN17+BP17+BR17+BT17+BV17+BX17+BZ17 -> 680486574 | CC17: =+BE17+BG17+BI17+BK17+BM17+BO17+BQ17+BS17+BU17+BW17+BY17+CA17 -> 410287063
C18: No Tributarios | D18: =+D19 -> 350000000 | E18: =+E19 -> 0 | F18: =+F19 -> 0 | I18: =+D18+E18-F18 -> 350000000 | J18: =+J19 -> 9426298.6 | K18: =+K19 -> 9426298.6 | L18: =+L19 -> 6500000 | M18: =+M19 -> 6500000 | N18: =+N19 -> 8000000 | O18: =+O19 -> 6000000 | P18: =+P19 -> 6000000 | Q18: =+Q19 -> 6000000 | R18: =+R19 -> 10600480 | S18: 6000000 | T18: 6000000 | U18: =+U19 -> 269546923 | V18: =SUM(J18:U18) -> 3.5e+08 | W18: =+I18-V18 -> -0.25999999 | Z18: No Tributarios | AA18: =+AA19 -> 350000000 | AB18: =+E18 -> 0 | AC18: =+F18 -> 0 | AD18: =+G18 -> 0 | AE18: =+H18 -> 0 | AF18: =+I18 -> 350000000 | AG18: =+J18 -> 9426298.6 | AH18: =+AH19 -> 9158175 | AI18: =+AI19 -> 6161512 | AJ18: =+AJ19 -> 17449868 | AK18: =+AK19 -> 20023422 | AL18: =+AL19 -> 13062244 | AM18: =+AM19 -> 869874 | AN18: 4249411.7 | AO18: =+AO19 -> 14532332 | AP18: 0 | AQ18: 0 | AR18: 0 | AS18: =SUM(AG18:AR18) -> 94933137 | AW18: No Tributarios | AX18: =+AX19 -> 350000000 | AY18: =+E18 -> 0 | AZ18: =+F18 -> 0 | BA18: =+G18 -> 0 | BB18: =+H18 -> 0 | BC18: =+I18 -> 350000000 | BD18: =+J18 -> 9426298.6 | BE18: =+AG18 -> 9426298.6 | BF18: =+K18 -> 9426298.6 | BG18: =+AH18 -> 9158175 | BH18: =L18 -> 6500000 | BI18: =AI18 -> 6161512 | BJ18: =M18 -> 6500000 | BK18: =AJ18 -> 17449868 | BL18: =N18 -> 8000000 | BM18: =AK18 -> 20023422 | BN18: =O18 -> 6000000 | BO18: =AL18 -> 13062244 | BP18: =P18 -> 6000000 | BQ18: =AM18 -> 869874 | BR18: =Q18 -> 6000000 | BS18: =AN18 -> 4249411.7 | BT18: =R18 -> 10600480 | BU18: =AO18 -> 14532332 | BV18: =S18 -> 6000000 | BW18: =AP18 -> 0 | BX18: =T18 -> 6000000 | BY18: =AQ18 -> 0 | BZ18: =U18 -> 269546923 | CA18: =AR18 -> 0 | CB18: =+BD18+BF18+BH18+BJ18+BL18+BN18+BP18+BR18+BT18+BV18+BX18+BZ18 -> 3.5e+08 | CC18: =+BE18+BG18+BI18+BK18+BM18+BO18+BQ18+BS18+BU18+BW18+BY18+CA18 -> 94933137
C19: venta de bienes y servicios | D19: 350000000 | E19: 0 | F19: 0 | I19: =+D19+E19-F19 -> 350000000 | J19: 9426298.6 | K19: 9426298.6 | L19: 6500000 | M19: =L19 -> 6500000 | N19: 8000000 | O19: 6000000 | P19: =O19 -> 6000000 | Q19: =P19 -> 6000000 | R19: 10600480 | S19: 6000000 | T19: =S19 -> 6000000 | U19: 269546923 | V19: =SUM(J19:U19) -> 3.5e+08 | W19: =+I19-V19 -> -0.25999999 | Z19: venta de bienes y servicios | AA19: =I19 -> 350000000 | AB19: =+E19 -> 0 | AC19: =+F19 -> 0 | AD19: =+G19 -> 0 | AE19: =+H19 -> 0 | AF19: =+I19 -> 350000000 | AG19: 9426299 | AH19: 9158175 | AI19: 6161512 | AJ19: 17449868 | AK19: 20023422 | AL19: 13062244 | AM19: 869874 | AN19: 4249412 | AO19: 14532332 | AP19: 0 | AQ19: 0 | AR19: 0 | AS19: =SUM(AG19:AR19) -> 94933138 | AW19: venta de bienes y servicios | AX19: =AF19 -> 350000000 | AY19: =+E19 -> 0 | AZ19: =+F19 -> 0 | BA19: =+G19 -> 0 | BB19: =+H19 -> 0 | BC19: =+I19 -> 350000000 | BD19: =J19 -> 9426298.6 | BE19: 9426299 | BF19: =+K19 -> 9426298.6 | BG19: =+AH19 -> 9158175 | BH19: =L19 -> 6500000 | BI19: =AI19 -> 6161512 | BJ19: =M19 -> 6500000 | BK19: =AJ19 -> 17449868 | BL19: =N19 -> 8000000 | BM19: =AK19 -> 20023422 | BN19: =O19 -> 6000000 | BO19: =AL19 -> 13062244 | BP19: =P19 -> 6000000 | BQ19: =AM19 -> 869874 | BR19: =Q19 -> 6000000 | BS19: =AN19 -> 4249412 | BT19: =R19 -> 10600480 | BU19: =AO19 -> 14532332 | BV19: =S19 -> 6000000 | BW19: =AP19 -> 0 | BX19: =T19 -> 6000000 | BY19: =AQ19 -> 0 | BZ19: =U19 -> 269546923 | CA19: =AR19 -> 0 | CB19: =+BD19+BF19+BH19+BJ19+BL19+BN19+BP19+BR19+BT19+BV19+BX19+BZ19 -> 3.5e+08 | CC19: =+BE19+BG19+BI19+BK19+BM19+BO19+BQ19+BS19+BU19+BW19+BY19+CA19 -> 94933138
B20: 3 | C20: Ingresos Capital | D20: =SUM(D21:D23) -> 2000000 | E20: 2.2443671e+08 | F20: =SUM(F21:F23) -> 0 | I20: =+D20+E20-F20 -> 2.2643671e+08 | J20: =SUM(J21:J23) -> 0 | K20: =SUM(K21:K23) -> 495000 | L20: =SUM(L21:L23) -> 495000 | M20: =SUM(M21:M23) -> 578861 | N20: =SUM(N21:N23) -> 431139 | O20: =SUM(O21:O23) -> 0 | P20: =SUM(P21:P23) -> 0 | Q20: =SUM(Q21:Q23) -> 0 | ... U20: =SUM(U21:U23) -> 0 | V20: =SUM(J20:U20) -> 226436709 | W20: =+I20-V20 -> -0.38999999 | Y20: 3 | Z20: Ingresos Capital | AA20: =SUM(AA21:AA23) -> 2.2643671e+08 | AB20: =+E20 -> 2.2443671e+08 | AC20: =+F20 -> 0 | AD20: =+G20 -> 0 | AE20: =+H20 -> 0 | AF20: =+I20 -> 2.2643671e+08 | AG20: =SUM(AG21:AG23) -> 0 | AH20: =SUM(AH21:AH23) -> 1078754 | AI20: =SUM(AI21:AI23) -> 567323 | AJ20: =SUM(AJ21:AJ23) -> 608483 | AK20: =SUM(AK21:AK23) -> 537656 | AL20: =SUM(AL21:AL23) -> 230806.14 | AM20: =SUM(AM21:AM23) -> 408928 | AN20: =SUM(AN21:AN23) -> 717603 | ... AR20: =SUM(AR21:AR23) -> 0 | AS20: =SUM(AG20:AR20) -> 4926349.9 | AV20: 3 | AW20: Ingresos Capital | AX20: =SUM(AX21:AX23) -> 2.2643671e+08 | AY20: =+E20 -> 2.2443671e+08 | AZ20: =+F20 -> 0 | BA20: =+G20 -> 0 | BB20: =+H20 -> 0 | BC20: =+I20 -> 2.2643671e+08 | BD20: =SUM(BD21:BD23) -> 0 | BE20: =SUM(BE21:BE23) -> 0 | BF20: =+K20 -> 495000 | BG20: =+AH20 -> 1078754 | BH20: =L20 -> 495000 | BI20: =AI20 -> 567323 | BJ20: =M20 -> 578861 | BK20: =AJ20 -> 608483 | BL20: =N20 -> 431139 | BM20: =AK20 -> 537656 | BN20: =O20 -> 0 | BO20: =AL20 -> 230806.14 | BP20: =P20 -> 0 | BQ20: =AM20 -> 408928 | BR20: =Q20 -> 0 | BS20: =AN20 -> 717603 | BT20: =R20 -> 0 | BU20: =AO20 -> 776796.72 | BV20: =S20 -> 100000000 | BW20: =AP20 -> 0 | BX20: =T20 -> 124436709 | BY20: =AQ20 -> 0 | BZ20: =U20 -> 0 | CA20: =AR20 -> 0 | CB20: =+BD20+BF20+BH20+BJ20+BL20+BN20+BP20+BR20+BT20+BV20+BX20+BZ20 -> 226436709 | CC20: =+BE20+BG20+BI20+BK20+BM20+BO20+BQ20+BS20+BU20+BW20+BY20+CA20 -> 4926349.9
C21: Superavit | D21: 0 | E21: 2.2443671e+08 | F21: 0 | I21: =+D21+E21-F21 -> 2.2443671e+08 | K21: 0 | L21: =+K21 -> 0 | M21: 0 | N21: 0 | O21: =+N21 -> 0 | P21: 0 | Q21: 0 | R21: 0 | S21: 100000000 | T21: 124436709 | U21: 0 | V21: =SUM(J21:U21) -> 224436709 | W21: =+I21-V21 -> -0.38999999 | Z21: Superavit | AA21: =I21 -> 2.2443671e+08 | AB21: =+E21 -> 2.2443671e+08 | AC21: =+F21 -> 0 | AD21: =+G21 -> 0 | AE21: =+H21 -> 0 | AF21: =+I21 -> 2.2443671e+08 | AG21: 0 | AH21: 0 | AI21: 0 | AJ21: 0 | AK21: 0 | AL21: 0 | AM21: 0 | AN21: 0 | AO21: 0 | AP21: 0 | AQ21: 0 | AR21: 0 | AS21: =SUM(AG21:AR21) -> 0 | AW21: Superavit | AX21: =AF21 -> 2.2443671e+08 | AY21: =+E21 -> 2.2443671e+08 | AZ21: =+F21 -> 0 | BA21: =+G21 -> 0 | BB21: =+H21 -> 0 | BC21: =+I21 -> 2.2443671e+08 | BD21: =+J21 -> 0 | BE21: =+AG21 -> 0 | BF21: =+K21 -> 0 | BG21: =+AH21 -> 0 | BH21: =L21 -> 0 | BI21: =AI21 -> 0 | BJ21: =M21 -> 0 | BK21: =AJ21 -> 0 | BL21: =N21 -> 0 | BM21: =AK21 -> 0 | BN21: =O21 -> 0 | BO21: =AL21 -> 0 | BP21: =P21 -> 0 | BQ21: =AM21 -> 0 | BR21: =Q21 -> 0 | BS21: =AN21 -> 0 | BT21: =R21 -> 0 | BU21: =AO21 -> 0 | BV21: =S21 -> 100000000 | BW21: =AP21 -> 0 | BX21: =T21 -> 124436709 | BY21: =AQ21 -> 0 | BZ21: =U21 -> 0 | CA21: =AR21 -> 0 | CB21: =+BD21+BF21+BH21+BJ21+BL21+BN21+BP21+BR21+BT21+BV21+BX21+BZ21 -> 224436709 | CC21: =+BE21+BG21+BI21+BK21+BM21+BO21+BQ21+BS21+BU21+BW21+BY21+CA21 -> 0
C22: Rendimientos Fcros | D22: 2000000 | E22: 0 | F22: 0 | I22: =+D22+E22-F22 -> 2000000 | J22: 0 | K22: 495000 | L22: =K22 -> 495000 | M22: 578861 | N22: 431139 | O22: 0 | P22: =+O22 -> 0 | Q22: =+P22 -> 0 | R22: =+Q22 -> 0 | S22: =+R22 -> 0 | T22: =+S22 -> 0 | U22: =+T22 -> 0 | V22: =SUM(J22:U22) -> 2000000 | W22: =+I22-V22 -> 0 | Z22: Rendimientos Fcros | AA22: =I22 -> 2000000 | AB22: =+E22 -> 0 | AC22: =+F22 -> 0 | AD22: =+G22 -> 0 | AE22: =+H22 -> 0 | AF22: =+I22 -> 2000000 | AG22: 0 | AH22: 1078754 | AI22: 567323 | AJ22: 608483 | AK22: 537656 | AL22: 230806.14 | AM22: 408928 | AN22: 717603 | AO22: 776796.72 | AP22: 0 | AQ22: 0 | AR22: 0 | AS22: =SUM(AG22:AR22) -> 4926349.9 | AW22: Rendimientos Fcros | AX22: =AF22 -> 2000000 | AY22: =+E22 -> 0 | AZ22: =+F22 -> 0 | BA22: =+G22 -> 0 | BB22: =+H22 -> 0 | BC22: =+I22 -> 2000000 | BD22: =+J22 -> 0 | BE22: =+AG22 -> 0 | BF22: =+K22 -> 495000 | BG22: 1078754 | BH22: =L22 -> 495000 | BI22: =AI22 -> 567323 | BJ22: =M22 -> 578861 | BK22: =AJ22 -> 608483 | BL22: =N22 -> 431139 | BM22: =AK22 -> 537656 | BN22: =O22 -> 0 | BO22: =AL22 -> 230806.14 | BP22: =P22 -> 0 | BQ22: =AM22 -> 408928 | BR22: =Q22 -> 0 | BS22: =AN22 -> 717603 | BT22: =R22 -> 0 | BU22: =AO22 -> 776796.72 | BV22: =S22 -> 0 | BW22: =AP22 -> 0 | BX22: =T22 -> 0 | BY22: =AQ22 -> 0 | BZ22: =U22 -> 0 | CA22: =AR22 -> 0 | CB22: =+BD22+BF22+BH22+BJ22+BL22+BN22+BP22+BR22+BT22+BV22+BX22+BZ22 -> 2000000 | CC22: =+BE22+BG22+BI22+BK22+BM22+BO22+BQ22+BS22+BU22+BW22+BY22+CA22 -> 4926349.9
C23: Otros | D23: 0 | E23: 0 | F23: 0 | I23: =+D23+E23-F23 -> 0 | J23: 0 | K23: 0 | L23: 0 | M23: 0 | N23: 0 | O23: 0 | P23: 0 | Q23: 0 | R23: 0 | S23: 0 | T23: 0 | U23: 0 | V23: =SUM(J23:U23) -> 0 | W23: =+I23-V23 -> 0 | Z23: Otros | AA23: =I23 -> 0 | AB23: =+E23 -> 0 | AC23: =+F23 -> 0 | AD23: =+G23 -> 0 | AE23: =+H23 -> 0 | AF23: =+I23 -> 0 | AG23: 0 | AH23: 0 | AI23: 0 | AJ23: 0 | AK23: 0 | AL23: 0 | AM23: 0 | AN23: 0 | AO23: 0 | AP23: 0 | AQ23: 0 | AR23: 0 | AS23: =SUM(AG23:AR23) -> 0 | AW23: Otros | AX23: =AF23 -> 0 | AY23: =+E23 -> 0 | AZ23: =+F23 -> 0 | BA23: =+G23 -> 0 | BB23: =+H23 -> 0 | BC23: =+I23 -> 0 | BD23: =+J23 -> 0 | BE23: =+AG23 -> 0 | BF23: =+K23 -> 0 | BG23: =+AH23 -> 0 | BH23: =L23 -> 0 | BI23: =AI23 -> 0 | BJ23: =M23 -> 0 | BK23: =AJ23 -> 0 | BL23: =N23 -> 0 | BM23: =AK23 -> 0 | BN23: =O23 -> 0 | BO23: =AL23 -> 0 | BP23: =P23 -> 0 | BQ23: =AM23 -> 0 | BR23: =Q23 -> 0 | BS23: =AN23 -> 0 | BT23: =R23 -> 0 | BU23: =AO23 -> 0 | BV23: =S23 -> 0 | BW23: =AP23 -> 0 | BX23: =T23 -> 0 | BY23: =AQ23 -> 0 | BZ23: =U23 -> 0 | CA23: =AR23 -> 0 | CB23: =+BD23+BF23+BH23+BJ23+BL23+BN23+BP23+BR23+BT23+BV23+BX23+BZ23 -> 0 | CC23: =+BE23+BG23+BI23+BK23+BM23+BO23+BQ23+BS23+BU23+BW23+BY23+CA23 -> 0
A24: OK decreto 853 | C24: Transferencias | D24: =+D25+D26+D27 -> 1996000000 | E24: =+E25+E26+E27 -> 1704785980 | F24: =+F25+F26+F27 -> 182907580 | I24: =+D24+E24-F24 -> 3517878400 | J24: =+J25+J26+J27 -> 0 | K24: =+K25+K26+K27 -> 0 | L24: =+L25+L26+L27 -> 151200000 | M24: =+M25+M26+M27 -> 75600000 | N24: =+N25+N26+N27 -> 0 | O24: =+O25+O26+O27 -> 123966666 | P24: =+P25+P26+P27 -> 123966666 | Q24: =+Q25+Q26+Q27 -> 212216666 | ... U24: =+U25+U26+U27 -> 545058845 | V24: =SUM(J24:U24) -> 3517878400 | W24: =+I24-V24 -> 0 | Z24: Transferencias | AA24: =+AA25+AA26+AA27 -> 3517878400 | AB24: =+E24 -> 1704785980 | AC24: =+F24 -> 182907580 | AD24: =+G24 -> 0 | AE24: =+H24 -> 0 | AF24: =+I24 -> 3517878400 | AG24: =+AG25+AG26+AG27 -> 0 | AH24: =+AH25+AH26+AH27 -> 0 | AI24: =+AI25+AI26+AI27 -> 151200000 | AJ24: =+AJ25+AJ26+AJ27 -> 75600000 | AK24: =+AK25+AK26+AK27 -> 0 | AL24: =+AL25+AL26+AL27 -> 0 | AM24: =+AM25+AM26+AM27 -> 425217444 | AN24: =+AN25+AN26+AN27 -> 212514142 | ... AR24: =+AR25+AR26+AR27 -> 0 | AS24: =SUM(AG24:AR24) -> 1009623798 | AW24: Transferencias | AX24: =+AX25+AX26+AX27 -> 3517878400 | AY24: =+E24 -> 1704785980 | AZ24: =+F24 -> 182907580 | BA24: =+G24 -> 0 | BB24: =+H24 -> 0 | BC24: =+I24 -> 3517878400 | BD24: =+J24 -> 0 | BE24: =+AG24 -> 0 | BF24: =+K24 -> 0 | BG24: =+AH24 -> 0 | BH24: =L24 -> 151200000 | BI24: =AI24 -> 151200000 | BJ24: =M24 -> 75600000 | BK24: =AJ24 -> 75600000 | BL24: =N24 -> 0 | BM24: =AK24 -> 0 | BN24: =O24 -> 123966666 | BO24: =AL24 -> 0 | BP24: =P24 -> 123966666 | BQ24: =AM24 -> 425217444 | BR24: =Q24 -> 212216666 | BS24: =AN24 -> 212514142 | BT24: =R24 -> 628204921 | BU24: =AO24 -> 145092212 | BV24: =S24 -> 647478504 | BW24: =AP24 -> 0 | BX24: =T24 -> 1010186132 | BY24: =AQ24 -> 0 | BZ24: =U24 -> 545058845 | CA24: =AR24 -> 0 | CB24: =+BD24+BF24+BH24+BJ24+BL24+BN24+BP24+BR24+BT24+BV24+BX24+BZ24 -> 3517878400 | CC24: =+BE24+BG24+BI24+BK24+BM24+BO24+BQ24+BS24+BU24+BW24+BY24+CA24 -> 1009623798
C25: Nacionales | D25: 0 | E25: 704785980 | F25: 0 | I25: =+D25+E25-F25 -> 704785980 | J25: 0 | K25: 0 | L25: 0 | M25: 0 | N25: 0 | O25: 0 | P25: 0 | Q25: 0 | R25: 422871588 | S25: 211435794 | T25: 0 | U25: 70478598 | V25: =SUM(J25:U25) -> 704785980 | W25: =+I25-V25 -> 0 | Z25: Nacionales | AA25: =I25 -> 704785980 | AB25: =+E25 -> 704785980 | AC25: =+F25 -> 0 | AD25: =+G25 -> 0 | AE25: =+H25 -> 0 | AF25: =+I25 -> 704785980 | AG25: 0 | AH25: 0 | AI25: 0 | AJ25: 0 | AK25: 0 | AL25: 0 | AM25: 0 | AN25: 0 | AO25: 80175546 | AP25: 0 | AQ25: 0 | AR25: 0 | AS25: =SUM(AG25:AR25) -> 80175546 | AW25: Nacionales | AX25: =AF25 -> 704785980 | AY25: =+E25 -> 704785980 | AZ25: =+F25 -> 0 | BA25: =+G25 -> 0 | BB25: =+H25 -> 0 | BC25: =+I25 -> 704785980 | BD25: =+J25 -> 0 | BE25: =+AG25 -> 0 | BF25: =+K25 -> 0 | BG25: =+AH25 -> 0 | BH25: =L25 -> 0 | BI25: =AI25 -> 0 | BJ25: =M25 -> 0 | BK25: =AJ25 -> 0 | BL25: =N25 -> 0 | BM25: =AK25 -> 0 | BN25: =O25 -> 0 | BO25: =AL25 -> 0 | BP25: =P25 -> 0 | BQ25: =AM25 -> 0 | BR25: =Q25 -> 0 | BS25: =AN25 -> 0 | BT25: =R25 -> 422871588 | BU25: =AO25 -> 80175546 | BV25: =S25 -> 211435794 | BW25: =AP25 -> 0 | BX25: =T25 -> 0 | BY25: =AQ25 -> 0 | BZ25: =U25 -> 70478598 | CA25: =AR25 -> 0 | CB25: =+BD25+BF25+BH25+BJ25+BL25+BN25+BP25+BR25+BT25+BV25+BX25+BZ25 -> 704785980 | CC25: =+BE25+BG25+BI25+BK25+BM25+BO25+BQ25+BS25+BU25+BW25+BY25+CA25 -> 80175546
C26: Departamentales | D26: 1996000000 | E26: 1000000000 | F26: 182907580 | I26: =+D26+E26-F26 -> 2813092420 | J26: =+J95-J149 -> 0 | K26: =+K95-K149 -> 0 | L26: =+L95-L149 -> 151200000 | M26: =+M95-M149 -> 75600000 | N26: =+N95-N149 -> 0 | O26: =+O95-O149 -> 123966666 | P26: =+P95-P149 -> 123966666 | Q26: =+Q95-Q149 -> 212216666 | ... U26: =+U95-U149 -> 474580247 | V26: =SUM(J26:U26) -> 2813092420 | W26: =+I26-V26 -> 0 | Z26: Departamentales | AA26: =I26 -> 2813092420 | AB26: =+E26 -> 1000000000 | AC26: =+F26 -> 182907580 | AD26: =+G26 -> 0 | AE26: =+H26 -> 0 | AF26: =+I26 -> 2813092420 | AG26: 0 | AH26: 0 | AI26: 151200000 | AJ26: 75600000 | AK26: 0 | AL26: 0 | AM26: 425217444 | AN26: 212514142 | AO26: 64916666 | AP26: 0 | AQ26: 0 | AR26: 0 | AS26: =SUM(AG26:AR26) -> 929448252 | AW26: Departamentales | AX26: =AF26 -> 2813092420 | AY26: =+E26 -> 1000000000 | AZ26: =+F26 -> 182907580 | BA26: =+G26 -> 0 | BB26: =+H26 -> 0 | BC26: =+I26 -> 2813092420 | BD26: =+J26 -> 0 | BE26: =+AG26 -> 0 | BF26: =+K26 -> 0 | BG26: =+AH26 -> 0 | BH26: =L26 -> 151200000 | BI26: =AI26 -> 151200000 | BJ26: =M26 -> 75600000 | BK26: =AJ26 -> 75600000 | BL26: =N26 -> 0 | BM26: =AK26 -> 0 | BN26: =O26 -> 123966666 | BO26: =AL26 -> 0 | BP26: =P26 -> 123966666 | BQ26: =AM26 -> 425217444 | BR26: =Q26 -> 212216666 | BS26: =AN26 -> 212514142 | BT26: =R26 -> 205333333 | BU26: =AO26 -> 64916666 | BV26: =S26 -> 436042710 | BW26: =AP26 -> 0 | BX26: =T26 -> 1010186132 | BY26: =AQ26 -> 0 | BZ26: =U26 -> 474580247 | CA26: =AR26 -> 0 | CB26: =+BD26+BF26+BH26+BJ26+BL26+BN26+BP26+BR26+BT26+BV26+BX26+BZ26 -> 2813092420 | CC26: =+BE26+BG26+BI26+BK26+BM26+BO26+BQ26+BS26+BU26+BW26+BY26+CA26 -> 929448252
C27: Otras Transferencias | D27: 0 | E27: 0 | F27: 0 | I27: =+D27+E27-F27 -> 0 | J27: 0 | K27: 0 | L27: 0 | M27: 0 | N27: 0 | O27: 0 | P27: 0 | Q27: 0 | R27: 0 | S27: 0 | T27: 0 | U27: 0 | V27: =SUM(J27:U27) -> 0 | W27: =+I27-V27 -> 0 | Z27: Otras Transferencias | AA27: =I27 -> 0 | AB27: =+E27 -> 0 | AC27: =+F27 -> 0 | AD27: =+G27 -> 0 | AE27: =+H27 -> 0 | AF27: =+I27 -> 0 | AG27: 0 | AH27: 0 | AI27: 0 | AJ27: 0 | AK27: 0 | AL27: 0 | AM27: 0 | AN27: 0 | AO27: 0 | AP27: 0 | AQ27: 0 | AR27: 0 | AS27: =SUM(AG27:AR27) -> 0 | AW27: Otras Transferencias | AX27: =AF27 -> 0 | AY27: =+E27 -> 0 | AZ27: =+F27 -> 0 | BA27: =+G27 -> 0 | BB27: =+H27 -> 0 | BC27: =+I27 -> 0 | BD27: =+J27 -> 0 | BE27: =+AG27 -> 0 | BF27: =+K27 -> 0 | BG27: =+AH27 -> 0 | BH27: =L27 -> 0 | BI27: =AI27 -> 0 | BJ27: =M27 -> 0 | BK27: =AJ27 -> 0 | BL27: =N27 -> 0 | BM27: =AK27 -> 0 | BN27: =O27 -> 0 | BO27: =AL27 -> 0 | BP27: =P27 -> 0 | BQ27: =AM27 -> 0 | BR27: =Q27 -> 0 | BS27: =AN27 -> 0 | BT27: =R27 -> 0 | BU27: =AO27 -> 0 | BV27: =S27 -> 0 | BW27: =AP27 -> 0 | BX27: =T27 -> 0 | BY27: =AQ27 -> 0 | BZ27: =U27 -> 0 | CA27: =AR27 -> 0 | CB27: =+BD27+BF27+BH27+BJ27+BL27+BN27+BP27+BR27+BT27+BV27+BX27+BZ27 -> 0 | CC27: =+BE27+BG27+BI27+BK27+BM27+BO27+BQ27+BS27+BU27+BW27+BY27+CA27 -> 0
B28: A | C28: Total Ingresos (1+2+3) | D28: =+D8+D12+D20 -> 4906620563 | E28: =+E8+E12+E20 -> 1.9292227e+09 | F28: =+F8+F12+F20 -> 182907580 | I28: =+I8+I12+I20 -> 6.6529357e+09 | J28: =+J8+J12+J20 -> 9426298.6 | K28: =+K8+K12+K20 -> 2.4146687e+08 | L28: =+L8+L12+L20 -> 357088626 | M28: =+M8+M12+M20 -> 283726878 | N28: =+N8+N12+N20 -> 222473186 | O28: =+O8+O12+O20 -> 323637071 | P28: =+P8+P12+P20 -> 4.590868e+08 | ... U28: =+U8+U12+U20 -> 1103999976 | V28: =SUM(J28:U28) -> 6.6529357e+09 | Y28: A | Z28: Total Ingresos (1+2+3) | AA28: =+AA8+AA12+AA20 -> 6.6529357e+09 | AB28: =+E28 -> 1.9292227e+09 | AC28: =+F28 -> 182907580 | AD28: =+G28 -> 0 | AE28: =+H28 -> 0 | AF28: =+I28 -> 6.6529357e+09 | AG28: =+AG8+AG12+AG20+AG24 -> 9426298.6 | AH28: =+AH8+AH12+AH20+AH24 -> 2.5045297e+08 | AI28: =+AI8+AI12+AI20 -> 3.220352e+08 | AJ28: =+AJ12+AJ20+AJ8 -> 4.0854988e+08 | AK28: =+AK8+AK12+AK20+AK24 -> 2.3850705e+08 | AL28: =+AL8+AL12+AL20+AL24 -> 3.4730873e+08 | AM28: =+AM8+AM12+AM20+AM24 -> 1.0450705e+09 | AN28: =+AN8+AN12+AN20+AN24 -> 1.1365551e+09 | AO28: =+AO8+AO12+AO20+AO24 -> 1.2097501e+09 | AP28: =+AP8+AP12+AP20+AP24 -> 0 | AQ28: =+AQ8+AQ12+AQ20+AQ24 -> 0 | AR28: =+AR8+AR12+AR20+AR24 -> 0 | AS28: =+AS8+AS12+AS20+AS24 -> 5.1944558e+09 | AV28: A | AW28: Total Ingresos (1+2+3) | AX28: =+AX8+AX12+AX20 -> 6.6529357e+09 | AY28: =+AY8+AY12+AY20 -> 1.9292227e+09 | AZ28: =+AZ8+AZ12+AZ20 -> 182907580 | BA28: =+BA8+BA12+BA20 -> 0 | BB28: =+BB8+BB12+BB20 -> 0 | BC28: =+BC8+BC12+BC20 -> 6.6529357e+09 | BD28: =J28 -> 9426298.6 | BE28: =AG28 -> 9426298.6 | BF28: =K28 -> 2.4146687e+08 | BG28: =AH28 -> 2.5045297e+08 | BH28: =L28 -> 357088626 | BI28: =AI28 -> 3.220352e+08 | BJ28: =M28 -> 283726878 | BK28: =AJ28 -> 4.0854988e+08 | BL28: =N28 -> 222473186 | BM28: =AK28 -> 2.3850705e+08 | BN28: =O28 -> 323637071 | BO28: =AL28 -> 3.4730873e+08 | BP28: =P28 -> 4.590868e+08 | BQ28: =AM28 -> 1.0450705e+09 | BR28: =Q28 -> 4.3141676e+08 | BS28: =AN28 -> 1.1365551e+09 | BT28: =R28 -> 1.0718417e+09 | BU28: =AO28 -> 1.2097501e+09 | BV28: =S28 -> 813478504 | BW28: =AP28 -> 0 | BX28: =T28 -> 1335292973 | BY28: =AQ28 -> 0 | BZ28: =U28 -> 1103999976 | CA28: =AR28 -> 0 | CB28: =+BD28+BF28+BH28+BJ28+BL28+BN28+BP28+BR28+BT28+BV28+BX28+BZ28 -> 6.6529357e+09 | CC28: =+BE28+BG28+BI28+BK28+BM28+BO28+BQ28+BS28+BU28+BW28+BY28+CA28 -> 4.9676558e+09
C29: GASTOS | D29: Apro Inicial | E29: Adiciones | F29: Reduccion | G29: Creditos | H29: Contracred | I29: Apro Definitiva | J29: Enero | K29: Febrero | L29: Marzo | M29: Abril | N29: Mayo | O29: Junio | P29: Julio | Q29: Agosto | R29: Septiembre | S29: Octubre | T29: Noviembre | U29: Diciembre | V29: Total | Z29: GASTOS | AA29: Apro Inicial | AB29: Adiciones | AC29: Reduccion | AD29: Creditos | AE29: Contracred | AF29: Apro Definitiva | AG29: Enero | AH29: Febrero | AI29: Marzo | AJ29: Abril | AK29: Mayo | AL29: Junio | AM29: Julio | AN29: Agosto | AO29: Septiembre | AP29: Octubre | AQ29: Noviembre | AR29: Diciembre | AS29: Total | AW29: =+C29 -> GASTOS | AX29: Apro Inicial | AY29: =+E29 -> Adiciones | AZ29: =+F29 -> Reduccion | BA29: =+G29 -> Creditos | BB29: =+H29 -> Contracred | BC29: =+I29 -> Apro Definitiva | BD29: Prog Enero | BE29: Ejec Enero | BF29: Prog Febrero | BG29: Ejec Febrero | BH29: Prog Marzo | BI29: Ejec Marzo | BJ29: Prog Abril | BK29: Ejec Abril | BL29: Prog Mayo | BM29: Ejec Mayo | BN29: Prog Junio | BO29: Ejec Junio | BP29: Prog Julio | BQ29: Ejec Julio | BR29: Prog Agosto | BS29: Ejec Agosto | BT29: Prog Septiembre | BU29: Ejec Septiembre | BV29: Prog Octubre | BW29: Ejec Octubre | BX29: Prog Noviembre | BY29: Ejec Noviembre | BZ29: Prog Diciembre | CA29: Ejec Diciembre | CB29: Total Prog | CC29: Total Ejec
B30: 1 | C30: Funcionamiento | D30: =D31+D83+D59+D90 -> 2910620563 | E30: =E31+E83+E59+E90 -> 2.2442671e+08 | F30: =F31+F83+F59+F90 -> 0 | G30: =G31+G83+G59 -> 127335839 | H30: =H31+H83+H59+H90 -> 127335839 | I30: =+D30+E30-F30+G30-H30 -> 3.1350473e+09 | J30: =J31+J83+J59 -> 123952350 | K30: =K31+K83+K59 -> 121118856 | L30: =L31+L83+L59 -> 130124621 | M30: =M31+M83+M59 -> 160344162 | N30: =N31+N83+N59 -> 123974621 | O30: =O31+O83+O59+O90 -> 146410817 | P30: =P31+P83+P59+P90 -> 5.7181653e+08 | Q30: =Q31+Q83+Q59+Q90 -> 168932842 | R30: =R31+R83+R59+R90 -> 274947528 | S30: =S31+S83+S59+S90 -> 190051107 | T30: =T31+T83+T59+T90 -> 3.2722358e+08 | U30: =U31+U83+U59+U90 -> 7.9615026e+08 | V30: =SUM(J30:U30) -> 3.1350473e+09 | W30: =+I30-V30 -> -0.31999969 | Y30: 1 | Z30: Funcionamiento | AA30: =AA31+AA83+AA59+AA90+AA56 -> 3.1315473e+09 | AB30: =+E30 -> 2.2442671e+08 | AC30: =+F30 -> 0 | AD30: =+G30 -> 127335839 | AE30: =+H30 -> 127335839 | AF30: =+I30 -> 3.1350473e+09 | AG30: =AG31+AG83+AG59+AG90 -> 755827 | AH30: =AH31+AH83+AH59+AH90 -> 1.9812643e+08 | AI30: =+AI31+AI65 -> 138960963 | AJ30: =+AJ31+AJ65 -> 149539148 | AK30: =+AK31+AK65+AK84 -> 95345501 | AL30: =+AL31+AL59+AL84 -> 107325890 | AM30: =+AM31+AM59+AM84 -> 137354671 | AN30: =+AN31+AN59+AN84 -> 118591057 | AO30: =AO31+AO83+AO59+AO90 -> 196186921 | AP30: =SUM(AP31:AP83) -> 0 | AQ30: =SUM(AQ31:AQ83) -> 0 | AR30: =SUM(AR31:AR83) -> 0 | AS30: =SUM(AG30:AR30) -> 1.1421864e+09 | AV30: 1 | AW30: =+C30 -> Funcionamiento | AX30: =AX31+AX83+AX59+AX90 -> 3.1350473e+09 | AY30: =+E30 -> 2.2442671e+08 | AZ30: =+F30 -> 0 | BA30: =+G30 -> 127335839 | BB30: =+H30 -> 127335839 | BC30: =+I30 -> 3.1350473e+09 | BD30: =J30 -> 123952350 | BE30: =AG30 -> 755827 | BF30: =K30 -> 121118856 | BG30: =AH30 -> 1.9812643e+08 | BH30: =L30 -> 130124621 | BI30: =AI30 -> 138960963 | BJ30: =M30 -> 160344162 | BK30: =AJ30 -> 149539148 | BL30: =N30 -> 123974621 | BM30: =AK30 -> 95345501 | BN30: =O30 -> 146410817 | BO30: =AL30 -> 107325890 | BP30: =P30 -> 5.7181653e+08 | BQ30: =AM30 -> 137354671 | BR30: =Q30 -> 168932842 | BS30: =AN30 -> 118591057 | BT30: =R30 -> 274947528 | BU30: =AO30 -> 196186921 | BV30: =S30 -> 190051107 | BW30: =AP30 -> 0 | BX30: =T30 -> 3.2722358e+08 | BY30: =AQ30 -> 0 | BZ30: =U30 -> 7.9615026e+08 | CA30: =AR30 -> 0 | CB30: =+BD30+BF30+BH30+BJ30+BL30+BN30+BP30+BR30+BT30+BV30+BX30+BZ30 -> 3.1350473e+09 | CC30: =+BE30+BG30+BI30+BK30+BM30+BO30+BQ30+BS30+BU30+BW30+BY30+CA30 -> 1.1421864e+09
C31: Gastos Personal | D31: =D32+D41+D46+D53+D56 -> 2314180366 | E31: =E32+E41+E46+E53 -> 70917500 | F31: =F32+F41+F46+F53 -> 0 | G31: =G32+G41+G46+G53 -> 86035839 | H31: =H32+H41+H46+H53 -> 109280000 | I31: =+D31+E31-F31+G31-H31 -> 2.3618537e+09 | J31: =J32+J41+J46+J53+J56 -> 123196523 | K31: =K32+K41+K46+K53+K56 -> 117722663 | L31: =L32+L41+L46+L56+L53 -> 125559038 | M31: =M32+M41+M46+M56+M53 -> 146734418 | N31: =N32+N41+N46+N53+J56 -> 119759038 | O31: =O32+O41+O46+O53+O56 -> 134395234 | P31: =P32+P41+P46+P53+P56 -> 283280846 | Q31: =Q32+Q41+Q46+Q53+Q56 -> 168219376 | R31: =R32+R41+R46+R53+R56 -> 274947528 | S31: =S32+S41+S46+S53+S56 -> 190051107 | T31: =T32+T41+T46+T53+T56 -> 173714376 | U31: =U32+U41+U46+U53+U56 -> 504273558 | V31: =SUM(J31:U31) -> 2361853705 | W31: =+I31-V31 -> -0.32000017 | Z31: Gastos Personal | AA31: =AA32+AA41+AA46+AA53 -> 2.2856537e+09 | AB31: =+E31 -> 70917500 | AC31: =+F31 -> 0 | AD31: =+G31 -> 86035839 | AE31: =+H31 -> 109280000 | AF31: =+I31 -> 2.3618537e+09 | AG31: =AG32+AG41+AG46+AG53 -> 0 | AH31: =AH32+AH41+AH46+AH53 -> 1.9203024e+08 | AI31: =AI32+AI41+AI46+AI53 -> 138295380 | AJ31: =AJ32+AJ41+AJ46+AJ53 -> 149539148 | AK31: =AK32+AK41+AK46+AK53 -> 90401340 | AL31: =AL32+AL41+AL46+AL53 -> 106270690 | AM31: =AM32+AM41+AM46+AM53 -> 128743554 | AN31: =AN32+AN41+AN46+AN53 -> 115634797 | AO31: =AO32+AO41+AO46+AO53 -> 171162294 | AP31: 0 | AQ31: 0 | AR31: 0 | AS31: =SUM(AG31:AR31) -> 1092077444 | AW31: =+C31 -> Gastos Personal | AX31: =AX32+AX41+AX46+AX53 -> 2.3618537e+09 | AY31: =+E31 -> 70917500 | AZ31: =+F31 -> 0 | BA31: =+G31 -> 86035839 | BB31: =+H31 -> 109280000 | BC31: =+I31 -> 2.3618537e+09 | BD31: =J31 -> 123196523 | BE31: =AG31 -> 0 | BF31: =K31 -> 117722663 | BG31: =AH31 -> 1.9203024e+08 | BH31: =L31 -> 125559038 | BI31: =AJ31 -> 149539148 | BJ31: =+M31 -> 146734418 | BK31: =AJ31 -> 149539148 | BL31: =+N31 -> 119759038 | BM31: =AK31 -> 90401340 | BN31: =+O31 -> 134395234 | BO31: =AL31 -> 106270690 | BP31: =+P31 -> 283280846 | BQ31: =AM31 -> 128743554 | BR31: =Q31 -> 168219376 | BS31: =AN31 -> 115634797 | BT31: =R31 -> 274947528 | BU31: =AO31 -> 171162294 | BV31: =S31 -> 190051107 | BW31: =AP31 -> 0 | BX31: =T31 -> 173714376 | BY31: =AQ31 -> 0 | BZ31: =U31 -> 504273558 | CA31: =AR31 -> 0 | CB31: =+BD31+BF31+BH31+BJ31+BL31+BN31+BP31+BR31+BT31+BV31+BX31+BZ31 -> 2361853705 | CC31: =+BE31+BG31+BI31+BK31+BM31+BO31+BQ31+BS31+BU31+BW31+BY31+CA31 -> 1103321212
A32: OK decreto 853 | C32: SERVICIOS PERSONALES ASOCIADOS A LA NOMINA | D32: =SUM(D33:D40) -> 1554924012 | E32: =SUM(E33:E40) -> 69704307 | F32: 0 | G32: =SUM(G33:G40) -> 35000000 | H32: =SUM(H33:H40) -> 109280000 | I32: =+D32+E32-F32+G32-H32 -> 1.5503483e+09 | J32: =SUM(J33:J40) -> 89233899 | K32: =SUM(K33:K40) -> 83761639 | L32: =SUM(L33:L40) -> 85908714 | M32: =SUM(M33:M40) -> 103908714 | N32: =SUM(N33:N40) -> 79408714 | O32: =SUM(O33:O40) -> 89245234 | P32: =SUM(P33:P40) -> 229785846 | Q32: =SUM(Q33:Q40) -> 114319376 | ... U32: =SUM(U33:U40) -> 188509011 | V32: =SUM(J32:U32) -> 1550348319 | W32: =+I32-V32 -> -0.31999993 | Z32: SERVICIOS PERSONALES ASOCIADOS A LA NOMINA | AA32: =SUM(AA33:AA40) -> 1.5503483e+09 | AB32: =+E32 -> 69704307 | AC32: =+F32 -> 0 | AD32: =+G32 -> 35000000 | AE32: =+H32 -> 109280000 | AF32: =+I32 -> 1.5503483e+09 | AG32: =SUM(AG33:AG40) -> 0 | AH32: =SUM(AH33:AH40) -> 1.5422229e+08 | AI32: =SUM(AI33:AI40) -> 87312080 | AJ32: =SUM(AJ33:AJ40) -> 123092688 | AK32: =SUM(AK33:AK40) -> 82537084 | AL32: =SUM(AL33:AL40) -> 81403190 | AM32: =SUM(AM33:AM40) -> 104966754 | AN32: =SUM(AN33:AN40) -> 81268008 | ... AS32: =SUM(AS33:AS40) -> 8.5327556e+08 | AW32: =+C32 -> SERVICIOS PERSONALES ASOCIADOS A LA NOMINA | AX32: =SUM(AX33:AX40) -> 1.5503483e+09 | AY32: =+E32 -> 69704307 | AZ32: =+F32 -> 0 | BA32: =+G32 -> 35000000 | BB32: =+H32 -> 109280000 | BC32: =+I32 -> 1.5503483e+09 | BD32: =J32 -> 89233899 | BE32: =AG32 -> 0 | BF32: =K32 -> 83761639 | BG32: =AH32 -> 1.5422229e+08 | BH32: =L32 -> 85908714 | BI32: =AI32 -> 87312080 | BJ32: =+M32 -> 103908714 | BK32: =AJ32 -> 123092688 | BL32: =+N32 -> 79408714 | BM32: =AK32 -> 82537084 | BN32: =+O32 -> 89245234 | BO32: =AL32 -> 81403190 | BP32: =+P32 -> 229785846 | BQ32: =AM32 -> 104966754 | BR32: =Q32 -> 114319376 | BS32: =AN32 -> 81268008 | BT32: =R32 -> 218646689 | BU32: =AO32 -> 138473474 | BV32: =S32 -> 142301107 | BW32: =AP32 -> 0 | BX32: =T32 -> 125319376 | BY32: =AQ32 -> 0 | BZ32: =U32 -> 188509011 | CA32: =AR32 -> 0 | CB32: =+BD32+BF32+BH32+BJ32+BL32+BN32+BP32+BR32+BT32+BV32+BX32+BZ32 -> 1550348319 | CC32: =+BE32+BG32+BI32+BK32+BM32+BO32+BQ32+BS32+BU32+BW32+BY32+CA32 -> 8.5327556e+08
C33: Sueldos Personal de Nomina | D33: 1208424012 | E33: 69704307 | F33: 0 | G33: 0 | H33: 105780000 | I33: =+D33+E33-F33+G33-H33 -> 1.1723483e+09 | J33: 81727834 | K33: 78908714 | L33: =K33 -> 78908714 | M33: =L33 -> 78908714 | N33: =M33 -> 78908714 | O33: 82065062 | P33: 114319376 | Q33: =P33 -> 114319376 | R33: 160147807 | S33: 114319376 | T33: =S33 -> 114319376 | U33: 75495256 | V33: =SUM(J33:U33) -> 1172348319 | W33: =+I33-V33 -> -0.31999993 | Z33: Sueldos Personal de Nomina | AA33: =I33 -> 1.1723483e+09 | AB33: =+E33 -> 69704307 | AC33: =+F33 -> 0 | AD33: =+G33 -> 0 | AE33: =+H33 -> 105780000 | AF33: =+I33 -> 1.1723483e+09 | AG33: 0 | AH33: 1.418633e+08 | AI33: 87312080 | AJ33: 94727858 | AK33: 0 | AL33: 81403190 | AM33: 75432637 | AN33: 73947220 | AO33: 80943917 | AP33: 0 | AQ33: 0 | AR33: 0 | AS33: =SUM(AG33:AR33) -> 6.356302e+08 | AW33: =+C33 -> Sueldos Personal de Nomina | AX33: =AF33 -> 1.1723483e+09 | AY33: =+E33 -> 69704307 | AZ33: =+F33 -> 0 | BA33: =+G33 -> 0 | BB33: =+H33 -> 105780000 | BC33: =+I33 -> 1.1723483e+09 | BD33: =J33 -> 81727834 | BE33: =AG33 -> 0 | BF33: =K33 -> 78908714 | BG33: =AH33 -> 1.418633e+08 | BH33: =L33 -> 78908714 | BI33: =AI33 -> 87312080 | BJ33: =+M33 -> 78908714 | BK33: =AJ33 -> 94727858 | BL33: =+N33 -> 78908714 | BM33: =AK33 -> 0 | BN33: =+O33 -> 82065062 | BO33: =AL33 -> 81403190 | BP33: =+P33 -> 114319376 | BQ33: =AM33 -> 75432637 | BR33: =Q33 -> 114319376 | BS33: =AN33 -> 73947220 | BT33: =R33 -> 160147807 | BU33: =AO33 -> 80943917 | BV33: =S33 -> 114319376 | BW33: =AP33 -> 0 | BX33: =T33 -> 114319376 | BY33: =AQ33 -> 0 | BZ33: =U33 -> 75495256 | CA33: =AR33 -> 0 | CB33: =+BD33+BF33+BH33+BJ33+BL33+BN33+BP33+BR33+BT33+BV33+BX33+BZ33 -> 1172348319 | CC33: =+BE33+BG33+BI33+BK33+BM33+BO33+BQ33+BS33+BU33+BW33+BY33+CA33 -> 6.356302e+08
C34: Indemnización de Vacaciones | D34: 40000000 | E34: 0 | F34: 0 | G34: 35000000 | H34: 0 | I34: =+D34+E34-F34+G34-H34 -> 75000000 | J34: 0 | K34: 0 | L34: 0 | M34: 0 | N34: 0 | O34: 1148183 | P34: 40325191 | Q34: 0 | R34: 24243913 | S34: 9282713 | T34: 0 | U34: =T34 -> 0 | V34: =SUM(J34:U34) -> 75000000 | W34: =+I34-V34 -> 0 | Z34: Indemnización de Vacaciones | AA34: =I34 -> 75000000 | AB34: =+E34 -> 0 | AC34: =+F34 -> 0 | AD34: =+G34 -> 35000000 | AE34: =+H34 -> 0 | AF34: =+I34 -> 75000000 | AG34: 0 | AH34: 0 | AI34: 0 | AJ34: 16933844 | AK34: 33340239 | AL34: 0 | AM34: 0 | AN34: 1645627 | AO34: 24243913 | AP34: 0 | AQ34: 0 | AR34: 0 | AS34: =SUM(AG34:AR34) -> 76163623 | AW34: =+C34 -> Indemnización de Vacaciones | AX34: =AF34 -> 75000000 | AY34: =+E34 -> 0 | AZ34: =+F34 -> 0 | BA34: =+G34 -> 35000000 | BB34: =+H34 -> 0 | BC34: =+I34 -> 75000000 | BD34: =J34 -> 0 | BE34: =AG34 -> 0 | BF34: =K34 -> 0 | BG34: =AH34 -> 0 | BH34: =L34 -> 0 | BI34: =AI34 -> 0 | BJ34: =+M34 -> 0 | BK34: =AJ34 -> 16933844 | BL34: =+N34 -> 0 | BM34: =AK34 -> 33340239 | BN34: =+O34 -> 1148183 | BO34: =AL34 -> 0 | BP34: =+P34 -> 40325191 | BQ34: =AM34 -> 0 | BR34: =Q34 -> 0 | BS34: =AN34 -> 1645627 | BT34: =R34 -> 24243913 | BU34: =AO34 -> 24243913 | BV34: =S34 -> 9282713 | BW34: =AP34 -> 0 | BX34: =T34 -> 0 | BY34: =AQ34 -> 0 | BZ34: =U34 -> 0 | CA34: =AR34 -> 0 | CB34: =+BD34+BF34+BH34+BJ34+BL34+BN34+BP34+BR34+BT34+BV34+BX34+BZ34 -> 75000000 | CC34: =+BE34+BG34+BI34+BK34+BM34+BO34+BQ34+BS34+BU34+BW34+BY34+CA34 -> 76163623
C35: Bonificación por Servicios Prestados | D35: 25000000 | E35: 0 | F35: 0 | G35: 0 | H35: 0 | I35: =+D35+E35-F35+G35-H35 -> 25000000 | J35: 7506065 | K35: 4852925 | L35: 7000000 | M35: 0 | N35: 500000 | O35: =700000+803728 -> 1503728 | P35: 0 | Q35: 0 | R35: 2735929 | S35: 901353 | T35: 0 | U35: 0 | V35: =SUM(J35:U35) -> 25000000 | W35: =+I35-V35 -> 0 | Z35: Bonificación por Servicios Prestados | AA35: =I35 -> 25000000 | AB35: =+E35 -> 0 | AC35: =+F35 -> 0 | AD35: =+G35 -> 0 | AE35: =+H35 -> 0 | AF35: =+I35 -> 25000000 | AG35: 0 | AH35: 12358990 | AI35: 0 | AJ35: 2296832 | AK35: 1744327 | AL35: 0 | AM35: 2399915 | AN35: 803728 | AO35: 1766604 | AP35: 0 | AQ35: 0 | AR35: 0 | AS35: =SUM(AG35:AR35) -> 21370396 | AW35: =+C35 -> Bonificación por Servicios Prestados | AX35: =AF35 -> 25000000 | AY35: =+E35 -> 0 | AZ35: =+F35 -> 0 | BA35: =+G35 -> 0 | BB35: =+H35 -> 0 | BC35: =+I35 -> 25000000 | BD35: =J35 -> 7506065 | BE35: =AG35 -> 0 | BF35: =K35 -> 4852925 | BG35: =AH35 -> 12358990 | BH35: =L35 -> 7000000 | BI35: =AI35 -> 0 | BJ35: =+M35 -> 0 | BK35: =AJ35 -> 2296832 | BL35: =+N35 -> 500000 | BM35: =AK35 -> 1744327 | BN35: =+O35 -> 1503728 | BO35: =AL35 -> 0 | BP35: =+P35 -> 0 | BQ35: =AM35 -> 2399915 | BR35: =Q35 -> 0 | BS35: =AN35 -> 803728 | BT35: =R35 -> 2735929 | BU35: =AO35 -> 1766604 | BV35: =S35 -> 901353 | BW35: =AP35 -> 0 | BX35: =T35 -> 0 | BY35: =AQ35 -> 0 | BZ35: =U35 -> 0 | CA35: =AR35 -> 0 | CB35: =+BD35+BF35+BH35+BJ35+BL35+BN35+BP35+BR35+BT35+BV35+BX35+BZ35 -> 25000000 | CC35: =+BE35+BG35+BI35+BK35+BM35+BO35+BQ35+BS35+BU35+BW35+BY35+CA35 -> 21370396
C36: Prima de Navidad | D36: 117300000 | E36: 0 | F36: 0 | G36: 0 | H36: 0 | I36: =+D36+E36-F36+G36-H36 -> 117300000 | J36: 0 | K36: 0 | L36: =K36 -> 0 | M36: =L36 -> 0 | N36: =M36 -> 0 | O36: 2328261 | P36: 4141279 | Q36: 0 | R36: 8046218 | S36: 4000000 | T36: 0 | U36: 98784242 | V36: =SUM(J36:U36) -> 117300000 | W36: =+I36-V36 -> 0 | Z36: Prima de Navidad | AA36: =I36 -> 117300000 | AB36: =+E36 -> 0 | AC36: =+F36 -> 0 | AD36: =+G36 -> 0 | AE36: =+H36 -> 0 | AF36: =+I36 -> 117300000 | AG36: 0 | AH36: 0 | AI36: 0 | AJ36: 443928 | AK36: 1803868 | AL36: 0 | AM36: 0 | AN36: 2383548 | AO36: 8046218 | AP36: 0 | AQ36: 0 | AR36: 0 | AS36: =SUM(AG36:AR36) -> 12677562 | AW36: =+C36 -> Prima de Navidad | AX36: =AF36 -> 117300000 | AY36: =+E36 -> 0 | AZ36: =+F36 -> 0 | BA36: =+G36 -> 0 | BB36: =+H36 -> 0 | BC36: =+I36 -> 117300000 | BD36: =J36 -> 0 | BE36: =AG36 -> 0 | BF36: =K36 -> 0 | BG36: =AH36 -> 0 | BH36: =L36 -> 0 | BI36: =AI36 -> 0 | BJ36: =+M36 -> 0 | BK36: =AJ36 -> 443928 | BL36: =+N36 -> 0 | BM36: =AK36 -> 1803868 | BN36: =+O36 -> 2328261 | BO36: =AL36 -> 0 | BP36: =+P36 -> 4141279 | BQ36: =AM36 -> 0 | BR36: =Q36 -> 0 | BS36: =AN36 -> 2383548 | BT36: =R36 -> 8046218 | BU36: =AO36 -> 8046218 | BV36: =S36 -> 4000000 | BW36: =AP36 -> 0 | BX36: =T36 -> 0 | BY36: =AQ36 -> 0 | BZ36: =U36 -> 98784242 | CA36: =AR36 -> 0 | CB36: =+BD36+BF36+BH36+BJ36+BL36+BN36+BP36+BR36+BT36+BV36+BX36+BZ36 -> 117300000 | CC36: =+BE36+BG36+BI36+BK36+BM36+BO36+BQ36+BS36+BU36+BW36+BY36+CA36 -> 12677562
C37: Prima Tecnica | D37: 0 | E37: 0 | F37: 0 | G37: 0 | H37: 0 | I37: =+D37+E37-F37+G37-H37 -> 0 | J37: =I37/12 -> 0 | K37: 0 | L37: 0 | M37: 0 | N37: 0 | O37: 0 | P37: 0 | Q37: 0 | R37: 0 | S37: 0 | T37: 0 | U37: 0 | V37: =SUM(J37:U37) -> 0 | W37: =+I37-V37 -> 0 | Z37: Prima Tecnica | AA37: =I37 -> 0 | AB37: =+E37 -> 0 | AC37: =+F37 -> 0 | AD37: =+G37 -> 0 | AE37: =+H37 -> 0 | AF37: =+I37 -> 0 | AG37: 0 | AH37: 0 | AI37: 0 | AJ37: 0 | AK37: 0 | AL37: 0 | AM37: 0 | AN37: 0 | AO37: 0 | AP37: 0 | AQ37: 0 | AR37: 0 | AS37: =SUM(AG37:AR37) -> 0 | AW37: =+C37 -> Prima Tecnica | AX37: =AF37 -> 0 | AY37: =+E37 -> 0 | AZ37: =+F37 -> 0 | BA37: =+G37 -> 0 | BB37: =+H37 -> 0 | BC37: =+I37 -> 0 | BD37: =J37 -> 0 | BE37: =AG37 -> 0 | BF37: =K37 -> 0 | BG37: =AH37 -> 0 | BH37: =L37 -> 0 | BI37: =AI37 -> 0 | BJ37: =+M37 -> 0 | BK37: =AJ37 -> 0 | BL37: =+N37 -> 0 | BM37: =AK37 -> 0 | BN37: =+O37 -> 0 | BO37: =AL37 -> 0 | BP37: =+P37 -> 0 | BQ37: =AM37 -> 0 | BR37: =Q37 -> 0 | BS37: =AN37 -> 0 | BT37: =R37 -> 0 | BU37: =AO37 -> 0 | BV37: =S37 -> 0 | BW37: =AP37 -> 0 | BX37: =T37 -> 0 | BY37: =AQ37 -> 0 | BZ37: =U37 -> 0 | CA37: =AR37 -> 0 | CB37: =+BD37+BF37+BH37+BJ37+BL37+BN37+BP37+BR37+BT37+BV37+BX37+BZ37 -> 0 | CC37: =+BE37+BG37+BI37+BK37+BM37+BO37+BQ37+BS37+BU37+BW37+BY37+CA37 -> 0
C38: Prima de Servicios | D38: 63200000 | E38: 0 | F38: 0 | G38: 0 | H38: 0 | I38: =+D38+E38-F38+G38-H38 -> 63200000 | J38: 0 | K38: 0 | L38: 0 | M38: 0 | N38: 0 | O38: 0 | P38: 50200000 | Q38: 0 | R38: 3626459 | S38: 2500000 | T38: 0 | U38: 6873541 | V38: =SUM(J38:U38) -> 63200000 | W38: =+I38-V38 -> 0 | Z38: Prima de Servicios | AA38: =I38 -> 63200000 | AB38: =+E38 -> 0 | AC38: =+F38 -> 0 | AD38: =+G38 -> 0 | AE38: =+H38 -> 0 | AF38: =+I38 -> 63200000 | AG38: 0 | AH38: 0 | AI38: 0 | AJ38: 1918409 | AK38: 8215623 | AL38: 0 | AM38: 27134202 | AN38: 1159346 | AO38: 3626459 | AP38: 0 | AQ38: 0 | AR38: 0 | AS38: =SUM(AG38:AR38) -> 42054039 | AW38: =+C38 -> Prima de Servicios | AX38: =AF38 -> 63200000 | AY38: =+E38 -> 0 | AZ38: =+F38 -> 0 | BA38: =+G38 -> 0 | BB38: =+H38 -> 0 | BC38: =+I38 -> 63200000 | BD38: =J38 -> 0 | BE38: =AG38 -> 0 | BF38: =K38 -> 0 | BG38: =AH38 -> 0 | BH38: =L38 -> 0 | BI38: =AI38 -> 0 | BJ38: =+M38 -> 0 | BK38: =AJ38 -> 1918409 | BL38: =+N38 -> 0 | BM38: =AK38 -> 8215623 | BN38: =+O38 -> 0 | BO38: =AL38 -> 0 | BP38: =+P38 -> 50200000 | BQ38: =AM38 -> 27134202 | BR38: =Q38 -> 0 | BS38: =AN38 -> 1159346 | BT38: =R38 -> 3626459 | BU38: =AO38 -> 3626459 | BV38: =S38 -> 2500000 | BW38: =AP38 -> 0 | BX38: =T38 -> 0 | BY38: =AQ38 -> 0 | BZ38: =U38 -> 6873541 | CA38: =AR38 -> 0 | CB38: =+BD38+BF38+BH38+BJ38+BL38+BN38+BP38+BR38+BT38+BV38+BX38+BZ38 -> 63200000 | CC38: =+BE38+BG38+BI38+BK38+BM38+BO38+BQ38+BS38+BU38+BW38+BY38+CA38 -> 42054039
C39: Prima de Vacaciones | D39: 88000000 | E39: 0 | F39: 0 | G39: 0 | H39: 3500000 | I39: =+D39+E39-F39+G39-H39 -> 84500000 | J39: 0 | K39: 0 | L39: 0 | M39: 25000000 | N39: 0 | O39: 2000000 | P39: 18000000 | Q39: 0 | R39: 17644028 | S39: 8500000 | T39: 8000000 | U39: 5355972 | V39: =SUM(J39:U39) -> 84500000 | W39: =+I39-V39 -> 0 | Z39: Prima de Vacaciones | AA39: =I39 -> 84500000 | AB39: =+E39 -> 0 | AC39: =+F39 -> 0 | AD39: =+G39 -> 0 | AE39: =+H39 -> 3500000 | AF39: =+I39 -> 84500000 | AG39: 0 | AH39: 0 | AI39: 0 | AJ39: 6019438 | AK39: 33277125 | AL39: 0 | AM39: 0 | AN39: 1175448 | AO39: 17644028 | AP39: 0 | AQ39: 0 | AR39: 0 | AS39: =SUM(AG39:AR39) -> 58116039 | AW39: =+C39 -> Prima de Vacaciones | AX39: =AF39 -> 84500000 | AY39: =+E39 -> 0 | AZ39: =+F39 -> 0 | BA39: =+G39 -> 0 | BB39: =+H39 -> 3500000 | BC39: =+I39 -> 84500000 | BD39: =J39 -> 0 | BE39: =AG39 -> 0 | BF39: =K39 -> 0 | BG39: =AH39 -> 0 | BH39: =L39 -> 0 | BI39: =AI39 -> 0 | BJ39: =+M39 -> 25000000 | BK39: =AJ39 -> 6019438 | BL39: =+N39 -> 0 | BM39: =AK39 -> 33277125 | BN39: =+O39 -> 2000000 | BO39: =AL39 -> 0 | BP39: =+P39 -> 18000000 | BQ39: =AM39 -> 0 | BR39: =Q39 -> 0 | BS39: =AN39 -> 1175448 | BT39: =R39 -> 17644028 | BU39: =AO39 -> 17644028 | BV39: =S39 -> 8500000 | BW39: =AP39 -> 0 | BX39: =T39 -> 8000000 | BY39: =AQ39 -> 0 | BZ39: =U39 -> 5355972 | CA39: =AR39 -> 0 | CB39: =+BD39+BF39+BH39+BJ39+BL39+BN39+BP39+BR39+BT39+BV39+BX39+BZ39 -> 84500000 | CC39: =+BE39+BG39+BI39+BK39+BM39+BO39+BQ39+BS39+BU39+BW39+BY39+CA39 -> 58116039
C40: Bonificación Recreacional | D40: 13000000 | E40: 0 | F40: 0 | G40: 0 | H40: 0 | I40: =+D40+E40-F40+G40-H40 -> 13000000 | J40: 0 | K40: 0 | L40: 0 | M40: =L40 -> 0 | N40: 0 | O40: 200000 | P40: 2800000 | Q40: 0 | R40: 2202335 | S40: 2797665 | T40: 3000000 | U40: 2000000 | V40: =SUM(J40:U40) -> 13000000 | W40: =+I40-V40 -> 0 | Z40: Bonificación Recreacional | AA40: =D40 -> 13000000 | AB40: =+E40 -> 0 | AC40: =+F40 -> 0 | AD40: =+G40 -> 0 | AE40: =+H40 -> 0 | AF40: =+I40 -> 13000000 | AG40: 0 | AH40: 0 | AI40: 0 | AJ40: 752379 | AK40: 4155902 | AL40: 0 | AM40: 0 | AN40: 153091 | AO40: 2202335 | AP40: 0 | AQ40: 0 | AR40: 0 | AS40: =SUM(AG40:AR40) -> 7263707 | AW40: =+C40 -> Bonificación Recreacional | AX40: =AF40 -> 13000000 | AY40: =+E40 -> 0 | AZ40: =+F40 -> 0 | BA40: =+G40 -> 0 | BB40: =+H40 -> 0 | BC40: =+I40 -> 13000000 | BD40: =J40 -> 0 | BE40: =AG40 -> 0 | BF40: =K40 -> 0 | BG40: =AH40 -> 0 | BH40: =L40 -> 0 | BI40: =AI40 -> 0 | BJ40: =+M40 -> 0 | BK40: =AJ40 -> 752379 | BL40: =+N40 -> 0 | BM40: =AK40 -> 4155902 | BN40: =+O40 -> 200000 | BO40: =AL40 -> 0 | BP40: =+P40 -> 2800000 | BQ40: =AM40 -> 0 | BR40: =Q40 -> 0 | BS40: =AN40 -> 153091 | BT40: =R40 -> 2202335 | BU40: =AO40 -> 2202335 | BV40: =S40 -> 2797665 | BW40: =AP40 -> 0 | BX40: =T40 -> 3000000 | BY40: =AQ40 -> 0 | BZ40: =U40 -> 2000000 | CA40: =AR40 -> 0 | CB40: =+BD40+BF40+BH40+BJ40+BL40+BN40+BP40+BR40+BT40+BV40+BX40+BZ40 -> 13000000 | CC40: =+BE40+BG40+BI40+BK40+BM40+BO40+BQ40+BS40+BU40+BW40+BY40+CA40 -> 7263707
A41: OK decreto 853 | C41: SERVICIOS PERSONALES INDIRECTOS | D41: =SUM(D42:D45) -> 0 | E41: =SUM(E42:E45) -> 0 | F41: =SUM(F42:F45) -> 0 | G41: =SUM(G42:G45) -> 50035839 | H41: =SUM(H42:H45) -> 0 | I41: =+D41+E41-F41+G41-H41 -> 50035839 | J41: =SUM(J42:J45) -> 0 | K41: =SUM(K42:K45) -> 0 | L41: =SUM(L42:L45) -> 0 | M41: =SUM(M42:M45) -> 0 | N41: =SUM(N42:N45) -> 5000000 | O41: =SUM(O42:O45) -> 5000000 | P41: =SUM(P42:P45) -> 6345000 | Q41: =SUM(Q42:Q45) -> 10150000 | ... U41: =SUM(U42:U45) -> 2345000 | V41: =SUM(J41:U41) -> 50035839 | W41: =+I41-V41 -> 0 | Z41: SERVICIOS PERSONALES INDIRECTOS | AA41: =SUM(AA42:AA45) -> 50035839 | AB41: =+E41 -> 0 | AC41: =+F41 -> 0 | AD41: =+G41 -> 50035839 | AE41: =+H41 -> 0 | AF41: =+I41 -> 50035839 | AG41: =SUM(AG42:AG45) -> 0 | AH41: =SUM(AH42:AH45) -> 0 | AI41: =SUM(AI42:AI45) -> 0 | AJ41: =SUM(AJ42:AJ45) -> 0 | AK41: =SUM(AK42:AK45) -> 0 | AL41: =SUM(AL42:AL45) -> 0 | AM41: =SUM(AM42:AM45) -> 0 | AN41: =SUM(AN42:AN45) -> 11050000 | ... AS41: =SUM(AS42:AS45) -> 13495000 | AW41: =+C41 -> SERVICIOS PERSONALES INDIRECTOS | AX41: =SUM(AX42:AX45) -> 50035839 | AY41: =+E41 -> 0 | AZ41: =+F41 -> 0 | BA41: =+G41 -> 50035839 | BB41: =+H41 -> 0 | BC41: =+I41 -> 50035839 | BD41: =J41 -> 0 | BE41: =AG41 -> 0 | BF41: =K41 -> 0 | BG41: =AH41 -> 0 | BH41: =L41 -> 0 | BI41: =AI41 -> 0 | BJ41: =+M41 -> 0 | BK41: =AJ41 -> 0 | BL41: =+N41 -> 5000000 | BM41: =AK41 -> 0 | BN41: =+O41 -> 5000000 | BO41: =AL41 -> 0 | BP41: =+P41 -> 6345000 | BQ41: =AM41 -> 0 | BR41: =Q41 -> 10150000 | BS41: =AN41 -> 11050000 | BT41: =R41 -> 12550839 | BU41: =AO41 -> 2445000 | BV41: =S41 -> 4000000 | BW41: =AP41 -> 0 | BX41: =T41 -> 4645000 | BY41: =AQ41 -> 0 | BZ41: =U41 -> 2345000 | CA41: =AR41 -> 0 | CB41: =+BD41+BF41+BH41+BJ41+BL41+BN41+BP41+BR41+BT41+BV41+BX41+BZ41 -> 50035839 | CC41: =+BE41+BG41+BI41+BK41+BM41+BO41+BQ41+BS41+BU41+BW41+BY41+CA41 -> 13495000
C42: Honorarios Profesionales | D42: 0 | E42: 0 | F42: 0 | G42: 18600000 | H42: 0 | I42: =+D42+E42-F42+G42-H42 -> 18600000 | P42: 0 | Q42: 6150000 | R42: 6150000 | S42: 4000000 | T42: 2300000 | V42: =SUM(J42:U42) -> 18600000 | W42: =+I42-V42 -> 0 | Z42: Honorarios Profesionales | AA42: =I42 -> 18600000 | AB42: =+E42 -> 0 | AC42: =+F42 -> 0 | AD42: =+G42 -> 18600000 | AE42: =+H42 -> 0 | AF42: =+I42 -> 18600000 | AG42: 0 | AH42: 0 | AI42: 0 | AJ42: 0 | AK42: 0 | AL42: 0 | AM42: 0 | AN42: 6050000 | AO42: 100000 | AP42: 0 | AQ42: 0 | AR42: 0 | AS42: =SUM(AG42:AR42) -> 6150000 | AW42: =+C42 -> Honorarios Profesionales | AX42: =AF42 -> 18600000 | AY42: =+E42 -> 0 | AZ42: =+F42 -> 0 | BA42: =+G42 -> 18600000 | BB42: =+H42 -> 0 | BC42: =+I42 -> 18600000 | BD42: =J42 -> 0 | BE42: =AG42 -> 0 | BF42: =K42 -> 0 | BG42: =AH42 -> 0 | BH42: =L42 -> 0 | BI42: =AI42 -> 0 | BJ42: =+M42 -> 0 | BK42: =AJ42 -> 0 | BL42: =+N42 -> 0 | BM42: =AK42 -> 0 | BN42: =+O42 -> 0 | BO42: =AL42 -> 0 | BP42: =+P42 -> 0 | BQ42: =AM42 -> 0 | BR42: =Q42 -> 6150000 | BS42: =AN42 -> 6050000 | BT42: =R42 -> 6150000 | BU42: =AO42 -> 100000 | BV42: =S42 -> 4000000 | BW42: =AP42 -> 0 | BX42: =T42 -> 2300000 | BY42: =AQ42 -> 0 | BZ42: =U42 -> 0 | CA42: =AR42 -> 0 | CB42: =+BD42+BF42+BH42+BJ42+BL42+BN42+BP42+BR42+BT42+BV42+BX42+BZ42 -> 18600000 | CC42: =+BE42+BG42+BI42+BK42+BM42+BO42+BQ42+BS42+BU42+BW42+BY42+CA42 -> 6150000
